Workbook

Sheet 提出書類チェックシート
B1: 提出書類チェックシート【測量及び建設コンサルタント等】
A3: № | B3: 提出書類 | C3: 確認事項 | D3: チェック （業者用） | E3: チェック （役所用）
A4: 1 | B4: 申請データ【Excelシート（委託）】
A5: 2 | B5: 登録証明書 | C5: 「建築コンサル」と「測量」は必須。それ以外は任意。
A6: 3 | B6: 履歴事項全部証明書 | C6: 法人のみ
A7: 4 | B7: 代表者の身分証明書 | C7: 個人事業主のみ
A8: 5 | B8: 代表者の登記されていないことの証明書 | C8: 個人事業主のみ
A9: 6 | B9: 印鑑証明書
A10: 7 | B10: 市町村税の滞納のない証明書又は市町村税の納税証明書（直近２年分）
A11: 8 | B11: 代表者の市町村税の滞納のない証明書（完納証明書でも可） | C11: 個人事業主が該当する場合のみ
A12: 9 | B12: 代表者の国民健康保険料（税）の滞納のない証明書 | C12: 個人事業主が該当する場合のみ
A13: 10 | B13: 都道府県税の滞納のない証明書又は事業税の納税証明書（直近２年分）
A14: 11 | B14: 国税納税証明書（法人税・消費税等）
A15: 12 | B15: 実績調書（様式第11号）
A16: 13 | B16: 誓約書（様式第12号）
A17: 14 | B17: 税務申告の決算書の写し又は財務諸表
A18: 15 | B18: 労働保険証明書 もしくは、 「労働保険概算・確定申告書」及び「保険料納付の領収書」
A19: 16 | B19: 社会保険料納入証明書 もしくは、 直近1年間の健康保険料及び厚生年金保険料の領収書
A20: 17 | B20: 障害者雇用状況報告書又は障害者手帳等 | C20: 該当する場合のみ
A21: 18 | B21: ＩＳＯ取得証明書（和文表記の登録証） | C21: 該当する場合のみ
A22: 19 | B22: 資本関係・人的関係等に関する調書（様式第15号） | C22: 該当する場合のみ
A23: 20 | B23: 使用印鑑届（様式第8号） | C23: 該当する場合のみ
A24: 21 | B24: 委任状（様式第7号） | C24: 該当する場合のみ
A25: 22 | B25: 技術職員名簿に記載のある資格等証明書 | C25: 市内・市外業者のみ
A26: 23 | B26: 技術職員の健康保険及び厚生年金保険に係る標準報酬の決定を通知する書面 | C26: 市内・市外業者のみ
A27: 24 | B27: 所在地見取図兼状況報告書（様式第３号） | C27: 市内に営業所（本店または支店）を有する場合のみ
A28: 25 | B28: 事業所等の写真（様式第４号） | C28: 市内に営業所（本店または支店）を有する場合のみ
A29: 26 | B29: 労働保険・社会保険・退職金共済制度 未加入理由書（様式第13号） | C29: 該当する場合のみ

Sheet 登録番号
B2: 浦添市での登録番号の有無の確認
F6: 例えば、物品では浦添市に登録したことがあるが、
F7: 委託では登録したことが一度もない場合も含みます
C9: 例えば、令和７・８年度は委託で登録して
C10: いなかったが、令和2年度は委託で登録して
C11: いたという場合も含みます
G19: 下の空欄に、業者名を入力してください。（正式名称で入力）
G20: 入力の際には、「株式会社」等と「○○設計」の間は1文字空けてください。
H21: （例）「●●エンジニアリング 株式会社」「有限会社 ○○コンサルタント」「 △△事業 協同組合」
H23: 業者名
H25: =_xlfn.XLOOKUP(I23,A30:A677,B30:B677,"未登録") -> 未登録 | I25: ←これが浦添市の委託での登録番号です
A29: 名称商号 | B29: 業者番号
A30: 株式会社 三矢コンサルタント | B30: 1
A31: 株式会社 新開土木設計 | B31: 2
A32: 株式会社 オキローボ | B32: 3
A33: 北斗設計 株式会社 | B33: 5
A34: 株式会社 大富建設コンサルタント | B34: 7
A35: 株式会社 ウイング総合設計 | B35: 8
A36: 大村設備設計室 | B36: 10
A37: 有限会社 アカリ設計 | B37: 11
A38: 株式会社 芝岩エンジニアリング | B38: 12
A39: 株式会社 渡久山設計 | B39: 13
A40: 株式会社 武蔵測量設計 | B40: 14
A41: 株式会社 東京設計事務所 | B41: 15
... A677: エフマック 株式会社 | B677: 1302

Sheet 入力エラーチェック
A2: 委託 入札参加資格審査申請
A4: 入力シート
A6: 入力状況
A7: 入力シート | B7: 未入力・NG件数 | C7: 確認結果
A8: 基本情報 | B8: =基本情報!B5 -> 13 | C8: =IF(B8=0,"入力条件OK","要修正：該当シートの赤い欄を確認してください") -> 要修正：該当シートの赤い欄を確認してください
A9: 経営・許可 | B9: =経営・許可!B5 -> 7 | C9: =IF(B9=0,"入力条件OK","要修正：該当シートの赤い欄を確認してください") -> 要修正：該当シートの赤い欄を確認してください
A10: 希望業種 | B10: =希望業種!B6 -> 1 | C10: =IF(B10=0,"入力条件OK","要修正：該当シートの赤い欄を確認してください") -> 要修正：該当シートの赤い欄を確認してください
A11: 有資格職員数名簿 | B11: =IF(経営・許可!C19="市内・市外",有資格職員数名簿!B8,0) -> 0 | C11: =IF(経営・許可!C19="県外","対象外：人数を経営・許可に入力",IF(経営・許可!C19="市内・市外",IF(B11=0,"入力条件OK","要修正：名簿の赤い欄を確認してください"),"対象区分を経営・許可で選択")) -> 対象区分を経営・許可で選択
A12: 全体の確認 | B12: =SUM(B8:B11) -> 21 | C12: =IF(B12=0,"入力条件OK。募集要領に従い、添付書類とともに提出してください。","未入力・NGが残っています。修正してから提出してください。") -> 未入力・NGが残っています。修正してから提出してください。
A16: 表示と入力の注意
A17: 黄色 | B17: 入力する欄。プルダウンがある場合はリストから選択。
A18: 薄い赤色 | B18: 必須項目が未入力。
A19: 赤色＋NG | B19: 入力形式や条件に誤り。表示された理由に沿って修正。
A20: 灰色・対象外 | B20: 選択した区分では不要。入力が残る場合は削除。
A21: 数値・番号 | B21: 法人番号・郵便番号・登録番号は半角で入力。金額は千円。
A22: チェック結果 | B22: 入力条件の確認です。審査内容や番号の実在、原本との一致は別途確認。
A24: 2026.10.30ver

Sheet 基本情報
A2: 基本情報
A4: 黄色または赤色の欄に入力してください。NGは赤色、必須の未入力は薄い赤色で表示します。
A5: このシートの確認 (残りのNG数→） | B5: =SUM(IF(OR(LEFT(D9,2)="NG",LEFT(D9,3)="未入力"),1,0),IF(OR(LEFT(D10,2)="NG",LEFT(D10,3)="未入力"),1,0),IF(OR(LEFT(D11,2)="NG",LEFT(D11,3)="未入力"),1,0),IF(OR(LEFT(D12,2)="NG",LEFT(D12,3)="未入力"),1,0),IF(OR(LEFT(D13,2)="NG",LEFT(D13,3)="未入力"),1,0),IF(OR(LEFT(D16,2)="NG",LEFT(D16,3)="未入力"),1,0),IF(OR(LEFT(D17,2)="NG",LEFT(D17,3)="未入力"),1,0),IF(OR(LEFT(D18,2)="NG",LEFT(D18,3)="未入力"),1,0),IF(OR(LEFT(D19,2)="NG",LEFT(D19,3)="未入力"),1,0),IF(OR(LEFT(D20,2)="NG",LEFT(D20,3)="未入力"),1,0),IF(OR(LEFT(D21,2)="NG",LEFT(D21,3)="未入力"),1,0),IF(OR(LEFT(D22,2)="NG",LEFT(D22,3)="未入力"),1,0),IF(OR(LEFT(D23,2)="NG",LEFT(D23,3)="未入力"),1,0),IF(OR(LEFT(D24,2)="NG",LEFT(D24,3)="未入力"),1,0),IF(OR(LEFT(D25,2)="NG",LEFT(D25,3)="未入力"),1,0),IF(OR(LEFT(D26,2)="NG",LEFT(D26,3)="未入力"),1,0),IF(OR(LEFT(D29,2)="NG",LEFT(D29,3)="未入力"),1,0),IF(OR(LEFT(D30,2)="NG",LEFT(D30,3)="未入力"),1,0),IF(OR(LEFT(D31,2)="NG",LEFT(D31,3)="未入力"),1,0),IF(OR(LEFT(D32,2)="NG",LEFT(D32,3)="未入力"),1,0),IF(OR(LEFT(D33,2)="NG",LEFT(D33,3)="未入力"),1,0),IF(OR(LEFT(D34,2)="NG",LEFT(D34,3)="未入力"),1,0),IF(OR(LEFT(D35,2)="NG",LEFT(D35,3)="未入力"),1,0),IF(OR(LEFT(D36,2)="NG",LEFT(D36,3)="未入力"),1,0)) -> 13 | C5: =IF(B5=0,"入力条件OK","要修正：赤い欄を確認") -> 要修正：赤い欄を確認
A7: 入力項目 | B7: 区分 | C7: 入力欄 | D7: 入力チェック | E7: 入力方法・確認事項
A8: 申請区分
A9: 事業者区分 | B9: 必須 | D9: =IF(NOT(TRUE),IF(AND(C9="",NOT(ISNUMBER(C9))),"対象外","NG：対象外の入力"),IF(AND(C9="",NOT(ISNUMBER(C9))),"未入力",IF(OR(C9="法人",C9="個人事業者"),"OK","NG：リストから選択"))) -> 未入力
A10: 法人番号 | B10: =IF($C$9="法人","必須","対象外") -> 対象外 | D10: =IF($C$9<>"法人","対象外",IF(AND(C10="",NOT(ISNUMBER(C10))),"未入力",IF(IFERROR(AND(LEN(C10)=13,LEN(SUBSTITUTE(SUBSTITUTE(SUBSTITUTE(SUBSTITUTE(SUBSTITUTE(SUBSTITUTE(SUBSTITUTE(SUBSTITUTE(SUBSTITUTE(SUBSTITUTE(C10,"0",""),"1",""),"2",""),"3",""),"4",""),"5",""),"6",""),"7",""),"8",""),"9",""))=0),FALSE),"OK","NG：半角13桁"))) -> 対象外 | E10: 法人のみ。13桁の半角数字。個人番号は入力しないでください。
A11: 所在地区分 | B11: 必須 | D11: =IF(C11="","未入力",IF(OR(C11="市内",C11="市外",C11="県外"),"OK","NG：リストから選択")) -> 未入力 | E11: 「市内」「市外」「県外」から選択。所在地の判定は募集要領に従う。
A12: 過去に登録したことはあるか | B12: 必須 | D12: =IF(C12="","未入力",IF(OR(C12="あり",C12="なし",C12="不明"),"OK","NG：リストから選択")) -> 未入力 | E12: 過去の入札参加資格登録について選択。
A13: 浦添市の登録番号 | B13: =IF(C12="あり","必須","任意") -> 任意 | D13: =IF(C12="なし","対象外",IF(AND(C13="",NOT(ISNUMBER(C13))),IF(C12="あり","未入力","任意"),IF(C12="なし","NG：登録歴なしの番号","OK"))) -> 任意 | E13: 登録歴が「あり」の場合は必須。HPの登録業者一覧で番号を確認してください。
A15: A 登記上の本店
A16: 郵便番号 | B16: 必須 | D16: =IF(NOT(TRUE),IF(AND(C16="",NOT(ISNUMBER(C16))),"対象外","NG：対象外の入力"),IF(AND(C16="",NOT(ISNUMBER(C16))),"未入力",IF(IFERROR(AND(LEN(C16)=7,LEN(SUBSTITUTE(SUBSTITUTE(SUBSTITUTE(SUBSTITUTE(SUBSTITUTE(SUBSTITUTE(SUBSTITUTE(SUBSTITUTE(SUBSTITUTE(SUBSTITUTE(C16,"0",""),"1",""),"2",""),"3",""),"4",""),"5",""),"6",""),"7",""),"8",""),"9",""))=0),FALSE),"OK","NG：半角7桁"))) -> 未入力 | E16: ハイフンなし、7桁の半角数字。
A17: 住所 | B17: 必須 | D17: =IF(NOT(TRUE),IF(AND(C17="",NOT(ISNUMBER(C17))),"対象外","NG：対象外の入力"),IF(AND(C17="",NOT(ISNUMBER(C17))),"未入力",IF(LEN(TRIM(C17))>0,"OK","NG：内容を確認"))) -> 未入力 | E17: 都道府県から入力。
A18: 商号又は名称フリガナ | B18: 必須 | D18: =IF(NOT(TRUE),IF(AND(C18="",NOT(ISNUMBER(C18))),"対象外","NG：対象外の入力"),IF(AND(C18="",NOT(ISNUMBER(C18))),"未入力",IF(LEN(TRIM(C18))>0,"OK","NG：内容を確認"))) -> 未入力 | E18: 正式名称を全角カタカナで入力。
A19: 商号又は名称 | B19: 必須 | D19: =IF(NOT(TRUE),IF(AND(C19="",NOT(ISNUMBER(C19))),"対象外","NG：対象外の入力"),IF(AND(C19="",NOT(ISNUMBER(C19))),"未入力",IF(LEN(TRIM(C19))>0,"OK","NG：内容を確認"))) -> 未入力 | E19: 正式名称を入力。株式会社と業者名の間は1文字分空ける。（例）●●建設 株式会社
A20: 代表者役職 | B20: 必須 | D20: =IF(NOT(TRUE),IF(AND(C20="",NOT(ISNUMBER(C20))),"対象外","NG：対象外の入力"),IF(AND(C20="",NOT(ISNUMBER(C20))),"未入力",IF(LEN(TRIM(C20))>0,"OK","NG：内容を確認"))) -> 未入力 | E20: 個人の場合は「代表者」。
A21: 代表者氏名フリガナ | B21: 必須 | D21: =IF(NOT(TRUE),IF(AND(C21="",NOT(ISNUMBER(C21))),"対象外","NG：対象外の入力"),IF(AND(C21="",NOT(ISNUMBER(C21))),"未入力",IF(LEN(TRIM(C21))>0,"OK","NG：内容を確認"))) -> 未入力 | E21: 全角カタカナ。姓と名は1文字分空ける。
A22: 代表者氏名 | B22: 必須 | D22: =IF(NOT(TRUE),IF(AND(C22="",NOT(ISNUMBER(C22))),"対象外","NG：対象外の入力"),IF(AND(C22="",NOT(ISNUMBER(C22))),"未入力",IF(LEN(TRIM(C22))>0,"OK","NG：内容を確認"))) -> 未入力 | E22: 姓と名は1文字分空ける。
A23: 電話番号 | B23: 必須 | D23: =IF(NOT(TRUE),IF(AND(C23="",NOT(ISNUMBER(C23))),"対象外","NG：対象外の入力"),IF(AND(C23="",NOT(ISNUMBER(C23))),"未入力",IF(AND(LEN(SUBSTITUTE(C23,"-",""))>=10,LEN(SUBSTITUTE(C23,"-",""))<=11,LEN(SUBSTITUTE(SUBSTITUTE(SUBSTITUTE(SUBSTITUTE(SUBSTITUTE(SUBSTITUTE(SUBSTITUTE(SUBSTITUTE(SUBSTITUTE(SUBSTITUTE(SUBSTITUTE(C23,"-",""),"0",""),"1",""),"2",""),"3",""),"4",""),"5",""),"6",""),"7",""),"8",""),"9",""))=0,LEFT(C23,1)="0",LEFT(C23,1)<>"-",RIGHT(C23,1)<>"-",ISERROR(SEARCH("--",C23))),"OK","NG：電話番号の形式"))) -> 未入力 | E23: 半角数字とハイフン。
A24: FAX番号 | B24: 任意 | D24: =IF(NOT(TRUE),IF(AND(C24="",NOT(ISNUMBER(C24))),"対象外","NG：対象外の入力"),IF(AND(C24="",NOT(ISNUMBER(C24))),"任意",IF(AND(LEN(SUBSTITUTE(C24,"-",""))>=10,LEN(SUBSTITUTE(C24,"-",""))<=11,LEN(SUBSTITUTE(SUBSTITUTE(SUBSTITUTE(SUBSTITUTE(SUBSTITUTE(SUBSTITUTE(SUBSTITUTE(SUBSTITUTE(SUBSTITUTE(SUBSTITUTE(SUBSTITUTE(C24,"-",""),"0",""),"1",""),"2",""),"3",""),"4",""),"5",""),"6",""),"7",""),"8",""),"9",""))=0,LEFT(C24,1)="0",LEFT(C24,1)<>"-",RIGHT(C24,1)<>"-",ISERROR(SEARCH("--",C24))),"OK","NG：電話番号の形式"))) -> 任意 | E24: FAXがない場合は空欄。
A25: 本社用メールアドレス | B25: 必須 | D25: =IF(NOT(TRUE),IF(AND(C25="",NOT(ISNUMBER(C25))),"対象外","NG：対象外の入力"),IF(AND(C25="",NOT(ISNUMBER(C25))),"未入力",IF(IFERROR(AND(LEN(C25)-LEN(SUBSTITUTE(C25,"@",""))=1,SEARCH("@",C25)>1,SEARCH(".",C25,SEARCH("@",C25)+2)<LEN(C25),ISERROR(SEARCH(" ",C25)),ISERROR(SEARCH(" ",C25)),C25=ASC(C25)),FALSE),"OK","NG：メールの形式"))) -> 未入力 | E25: 半角で入力。指名通知用となりますので、確実に通知書が受け取れる営業所のメールアドレスを記入してください。（委任時は委任先営業所にのみ通知されます）
A26: 入札・契約権限の委任 | B26: 必須 | D26: =IF(NOT(TRUE),IF(AND(C26="",NOT(ISNUMBER(C26))),"対象外","NG：対象外の入力"),IF(AND(C26="",NOT(ISNUMBER(C26))),"未入力",IF(OR(C26="する",C26="しない"),"OK","NG：リストから選択"))) -> 未入力
A28: B 委任先営業所
A29: 住所 | B29: =IF($C$26="する","必須","対象外") -> 対象外 | D29: =IF($C$26<>"する","対象外",IF(AND(C29="",NOT(ISNUMBER(C29))),"未入力",IF(LEN(TRIM(C29))>0,"OK","NG：内容を確認"))) -> 対象外 | E29: 都道府県から入力。
A30: 商号又は名称 | B30: =IF($C$26="する","必須","対象外") -> 対象外 | D30: =IF($C$26<>"する","対象外",IF(AND(C30="",NOT(ISNUMBER(C30))),"未入力",IF(LEN(TRIM(C30))>0,"OK","NG：内容を確認"))) -> 対象外 | E30: 正式名称を入力。
A31: 支店等の名称 | B31: =IF($C$26="する","必須","対象外") -> 対象外 | D31: =IF($C$26<>"する","対象外",IF(AND(C31="",NOT(ISNUMBER(C31))),"未入力",IF(LEN(TRIM(C31))>0,"OK","NG：内容を確認"))) -> 対象外 | E31: 支店・営業所等の正式名称を入力。
A32: 代表者（受任者）役職 | B32: =IF($C$26="する","必須","対象外") -> 対象外 | D32: =IF($C$26<>"する","対象外",IF(AND(C32="",NOT(ISNUMBER(C32))),"未入力",IF(LEN(TRIM(C32))>0,"OK","NG：内容を確認"))) -> 対象外 | E32: 入札・契約の権限を委任された営業所長等の正式な役職。
A33: 代表者（受任者）氏名 | B33: =IF($C$26="する","必須","対象外") -> 対象外 | D33: =IF($C$26<>"する","対象外",IF(AND(C33="",NOT(ISNUMBER(C33))),"未入力",IF(LEN(TRIM(C33))>0,"OK","NG：内容を確認"))) -> 対象外 | E33: 姓と名は1文字分空ける。
A34: 電話番号 | B34: =IF($C$26="する","必須","対象外") -> 対象外 | D34: =IF($C$26<>"する","対象外",IF(AND(C34="",NOT(ISNUMBER(C34))),"未入力",IF(AND(LEN(SUBSTITUTE(C34,"-",""))>=10,LEN(SUBSTITUTE(C34,"-",""))<=11,LEFT(C34,1)="0",RIGHT(C34,1)<>"-",ISERROR(SEARCH("--",C34))),"OK","NG：電話番号の形式"))) -> 対象外 | E34: 半角数字とハイフン。
A35: FAX番号 | B35: =IF($C$26="する","任意","対象外") -> 対象外 | D35: =IF($C$26<>"する","対象外",IF(AND(C35="",NOT(ISNUMBER(C35))),"任意",IF(AND(LEN(SUBSTITUTE(C35,"-",""))>=10,LEN(SUBSTITUTE(C35,"-",""))<=11,LEFT(C35,1)="0",RIGHT(C35,1)<>"-",ISERROR(SEARCH("--",C35))),"OK","NG：電話番号の形式"))) -> 対象外 | E35: FAXがない場合は空欄。
A36: 委任先営業所用メールアドレス | B36: =IF($C$26="する","必須","対象外") -> 対象外 | D36: =IF($C$26<>"する","対象外",IF(AND(C36="",NOT(ISNUMBER(C36))),"未入力",IF(IFERROR(AND(LEN(C36)-LEN(SUBSTITUTE(C36,"@",""))=1,SEARCH("@",C36)>1,SEARCH(".",C36,SEARCH("@",C36)+2)<LEN(C36),ISERROR(SEARCH(" ",C36)),ISERROR(SEARCH(" ",C36)),C36=ASC(C36)),FALSE),"OK","NG：メールの形式"))) -> 対象外 | E36: 半角で入力。指名通知用となりますので、確実に通知書が受け取れる営業所のメールアドレスを記入してください。
A37: フリガナの表記、正式名称、住所の内容は入力者が確認してください。

Sheet 経営・許可
A2: 経営情報・事業者への追加情報・資格者数
A4: 黄色または赤色の欄に入力してください。NGは赤色、必須の未入力は薄い赤色で表示します。
A5: このシートの確認 (残りのNG数→） | B5: =COUNTIFS(E9:E10,"未入力*")+COUNTIFS(E9:E10,"NG*")+COUNTIFS(E13:E16,"未入力*")+COUNTIFS(E13:E16,"NG*")+IF(OR(C19="県外",C19="市内・市外"),0,1)+IF(C19="県外",IF(SUM(F24:F115)=0,1,0)+SUM(G24:G115),0) -> 7 | C5: =IF(B5=0,"入力条件OK","要修正：赤い欄を確認") -> 要修正：赤い欄を確認
A7: 入力項目 | B7: 区分 | C7: 入力方法・確認事項 | D7: 入力欄 | E7: 入力チェック
A8: D 経営情報
A9: 純資産の部合計 （千円） | B9: 必須 | C9: 貸借対照表の純資産の部合計を千円単位で入力（マイナスも可）。 | E9: =IF(AND(D9="",NOT(ISNUMBER(D9))),"未入力",IF(IFERROR(AND(ISNUMBER(D9),D9=INT(D9)),FALSE),"OK","NG：整数で入力")) -> 未入力
A10: 営業年数（年） | B10: 必須 | C10: 営業年数を入力。 | E10: =IF(AND(D10="",NOT(ISNUMBER(D10))),"未入力",IF(IFERROR(AND(ISNUMBER(D10),D10>=0,MOD(D10,1)=0),FALSE),"OK","NG：0以上の整数")) -> 未入力
A12: E 事業者への追加情報（全事業者対象）
A13: ISO9001取得 | B13: 必須 | C13: 取得している場合は「有」。委任している場合は、委任先も取得していることが必須。 | E13: =IF(AND(D13="",NOT(ISNUMBER(D13))),"未入力",IF(OR(D13="有",D13="無"),"OK","NG：リストから選択")) -> 未入力
A14: ISO14001取得 | B14: 必須 | C14: 取得している場合は「有」。委任している場合は、委任先も取得していることが必須。 | E14: =IF(AND(D14="",NOT(ISNUMBER(D14))),"未入力",IF(OR(D14="有",D14="無"),"OK","NG：リストから選択")) -> 未入力
A15: 障がい者雇用 | B15: 必須 | C15: 障がい者を雇用している場合「有」。 | E15: =IF(AND(D15="",NOT(ISNUMBER(D15))),"未入力",IF(OR(D15="有",D15="無"),"OK","NG：リストから選択")) -> 未入力
A16: 親子会社・役員兼任 | B16: 必須 | C16: 親子会社又は役員兼任があるか。 | E16: =IF(AND(D16="",NOT(ISNUMBER(D16))),"未入力",IF(OR(D16="有",D16="無"),"OK","NG：リストから選択")) -> 未入力
A18: F 資格者数（資格コードごと）
A19: 対象区分
A20: =IF(C19="県外","下表の黄色い「県外：ここに人数を入力」欄に、資格ごとの人数を直接入力してください。"&CHAR(10)&"人数は1件以上入力してください（0人も可）。",IF(C19="市内・市外","「有資格職員数名簿」に入力してください。下表のD列に自動集計します。"&IF(有資格職員数名簿!B8>0,CHAR(10)&"名簿の入力チェックも確認してください。",""),"対象区分を選択してください。")) -> 対象区分を選択してください。
A21: =IF(AND(NOT(AND(C19="",NOT(ISNUMBER(C19)))),NOT(AND(基本情報!C11="",NOT(ISNUMBER(基本情報!C11)))),OR(AND(C19="県外",基本情報!C11<>"県外"),AND(C19="市内・市外",基本情報!C11="県外"))),"注意：基本情報の所在地区分と異なります。選択内容を確認してください。","")
A23: 業種 | B23: 資格コード | C23: 資格名 | D23: 名簿集計人数 （市内・市外） | E23: =IF($C$19="県外","県外：ここに人数を入力","県外：入力対象外") -> 県外：入力対象外 | F23: 有効人数 | G23: 不正人数 | H23: 採用人数
A24: 建築 | B24: 137 | C24: 一級建築士 | D24: =IF($C$19="市内・市外",有資格職員数名簿!L116,"") | F24: =IF(AND(E24="",NOT(ISNUMBER(E24))),0,IF(IFERROR(AND(ISNUMBER(E24),E24>=0,MOD(E24,1)=0),FALSE),1,0)) -> 0 | G24: =IF(AND(E24="",NOT(ISNUMBER(E24))),0,IF(IFERROR(AND(ISNUMBER(E24),E24>=0,MOD(E24,1)=0),FALSE),0,1)) -> 0 | H24: =IF($C$19="県外",IF(AND(E24="",NOT(ISNUMBER(E24))),"",IF(F24=1,E24,"")),IF($C$19="市内・市外",D24,""))
A25: 建築 | B25: 078 | C25: 設備設計一級建築士 | D25: =IF($C$19="市内・市外",有資格職員数名簿!L117,"") | F25: =IF(AND(E25="",NOT(ISNUMBER(E25))),0,IF(IFERROR(AND(ISNUMBER(E25),E25>=0,MOD(E25,1)=0),FALSE),1,0)) -> 0 | G25: =IF(AND(E25="",NOT(ISNUMBER(E25))),0,IF(IFERROR(AND(ISNUMBER(E25),E25>=0,MOD(E25,1)=0),FALSE),0,1)) -> 0 | H25: =IF($C$19="県外",IF(AND(E25="",NOT(ISNUMBER(E25))),"",IF(F25=1,E25,"")),IF($C$19="市内・市外",D25,""))
A26: 建築 | B26: 079 | C26: 構造設計一級建築士 | D26: =IF($C$19="市内・市外",有資格職員数名簿!L118,"") | F26: =IF(AND(E26="",NOT(ISNUMBER(E26))),0,IF(IFERROR(AND(ISNUMBER(E26),E26>=0,MOD(E26,1)=0),FALSE),1,0)) -> 0 | G26: =IF(AND(E26="",NOT(ISNUMBER(E26))),0,IF(IFERROR(AND(ISNUMBER(E26),E26>=0,MOD(E26,1)=0),FALSE),0,1)) -> 0 | H26: =IF($C$19="県外",IF(AND(E26="",NOT(ISNUMBER(E26))),"",IF(F26=1,E26,"")),IF($C$19="市内・市外",D26,""))
A27: 建築 | B27: 238 | C27: 二級建築士 | D27: =IF($C$19="市内・市外",有資格職員数名簿!L119,"") | F27: =IF(AND(E27="",NOT(ISNUMBER(E27))),0,IF(IFERROR(AND(ISNUMBER(E27),E27>=0,MOD(E27,1)=0),FALSE),1,0)) -> 0 | G27: =IF(AND(E27="",NOT(ISNUMBER(E27))),0,IF(IFERROR(AND(ISNUMBER(E27),E27>=0,MOD(E27,1)=0),FALSE),0,1)) -> 0 | H27: =IF($C$19="県外",IF(AND(E27="",NOT(ISNUMBER(E27))),"",IF(F27=1,E27,"")),IF($C$19="市内・市外",D27,""))
A28: 建築 | B28: 062 | C28: 建築設備士 | D28: =IF($C$19="市内・市外",有資格職員数名簿!L120,"") | F28: =IF(AND(E28="",NOT(ISNUMBER(E28))),0,IF(IFERROR(AND(ISNUMBER(E28),E28>=0,MOD(E28,1)=0),FALSE),1,0)) -> 0 | G28: =IF(AND(E28="",NOT(ISNUMBER(E28))),0,IF(IFERROR(AND(ISNUMBER(E28),E28>=0,MOD(E28,1)=0),FALSE),0,1)) -> 0 | H28: =IF($C$19="県外",IF(AND(E28="",NOT(ISNUMBER(E28))),"",IF(F28=1,E28,"")),IF($C$19="市内・市外",D28,""))
A29: 建築 | B29: 064 | C29: 建築構造士 | D29: =IF($C$19="市内・市外",有資格職員数名簿!L121,"") | F29: =IF(AND(E29="",NOT(ISNUMBER(E29))),0,IF(IFERROR(AND(ISNUMBER(E29),E29>=0,MOD(E29,1)=0),FALSE),1,0)) -> 0 | G29: =IF(AND(E29="",NOT(ISNUMBER(E29))),0,IF(IFERROR(AND(ISNUMBER(E29),E29>=0,MOD(E29,1)=0),FALSE),0,1)) -> 0 | H29: =IF($C$19="県外",IF(AND(E29="",NOT(ISNUMBER(E29))),"",IF(F29=1,E29,"")),IF($C$19="市内・市外",D29,""))
A30: 建築 | B30: 076 | C30: 建築積算士（建築コスト管理士含む） | D30: =IF($C$19="市内・市外",有資格職員数名簿!L122,"") | F30: =IF(AND(E30="",NOT(ISNUMBER(E30))),0,IF(IFERROR(AND(ISNUMBER(E30),E30>=0,MOD(E30,1)=0),FALSE),1,0)) -> 0 | G30: =IF(AND(E30="",NOT(ISNUMBER(E30))),0,IF(IFERROR(AND(ISNUMBER(E30),E30>=0,MOD(E30,1)=0),FALSE),0,1)) -> 0 | H30: =IF($C$19="県外",IF(AND(E30="",NOT(ISNUMBER(E30))),"",IF(F30=1,E30,"")),IF($C$19="市内・市外",D30,""))
A31: 測量 | B31: 107 | C31: 測量士 | D31: =IF($C$19="市内・市外",有資格職員数名簿!L123,"") | F31: =IF(AND(E31="",NOT(ISNUMBER(E31))),0,IF(IFERROR(AND(ISNUMBER(E31),E31>=0,MOD(E31,1)=0),FALSE),1,0)) -> 0 | G31: =IF(AND(E31="",NOT(ISNUMBER(E31))),0,IF(IFERROR(AND(ISNUMBER(E31),E31>=0,MOD(E31,1)=0),FALSE),0,1)) -> 0 | H31: =IF($C$19="県外",IF(AND(E31="",NOT(ISNUMBER(E31))),"",IF(F31=1,E31,"")),IF($C$19="市内・市外",D31,""))
A32: 測量 | B32: 208 | C32: 測量士補 | D32: =IF($C$19="市内・市外",有資格職員数名簿!L124,"") | F32: =IF(AND(E32="",NOT(ISNUMBER(E32))),0,IF(IFERROR(AND(ISNUMBER(E32),E32>=0,MOD(E32,1)=0),FALSE),1,0)) -> 0 | G32: =IF(AND(E32="",NOT(ISNUMBER(E32))),0,IF(IFERROR(AND(ISNUMBER(E32),E32>=0,MOD(E32,1)=0),FALSE),0,1)) -> 0 | H32: =IF($C$19="県外",IF(AND(E32="",NOT(ISNUMBER(E32))),"",IF(F32=1,E32,"")),IF($C$19="市内・市外",D32,""))
A33: 測量 | B33: 991 | C33: 土地家屋調査士 | D33: =IF($C$19="市内・市外",有資格職員数名簿!L125,"") | F33: =IF(AND(E33="",NOT(ISNUMBER(E33))),0,IF(IFERROR(AND(ISNUMBER(E33),E33>=0,MOD(E33,1)=0),FALSE),1,0)) -> 0 | G33: =IF(AND(E33="",NOT(ISNUMBER(E33))),0,IF(IFERROR(AND(ISNUMBER(E33),E33>=0,MOD(E33,1)=0),FALSE),0,1)) -> 0 | H33: =IF($C$19="県外",IF(AND(E33="",NOT(ISNUMBER(E33))),"",IF(F33=1,E33,"")),IF($C$19="市内・市外",D33,""))
A34: 土木 | B34: 701 | C34: 技術士：機械部門 | D34: =IF($C$19="市内・市外",有資格職員数名簿!L126,"") | F34: =IF(AND(E34="",NOT(ISNUMBER(E34))),0,IF(IFERROR(AND(ISNUMBER(E34),E34>=0,MOD(E34,1)=0),FALSE),1,0)) -> 0 | G34: =IF(AND(E34="",NOT(ISNUMBER(E34))),0,IF(IFERROR(AND(ISNUMBER(E34),E34>=0,MOD(E34,1)=0),FALSE),0,1)) -> 0 | H34: =IF($C$19="県外",IF(AND(E34="",NOT(ISNUMBER(E34))),"",IF(F34=1,E34,"")),IF($C$19="市内・市外",D34,""))
A35: 土木 | B35: 702 | C35: 技術士：船舶・海洋部門 | D35: =IF($C$19="市内・市外",有資格職員数名簿!L127,"") | F35: =IF(AND(E35="",NOT(ISNUMBER(E35))),0,IF(IFERROR(AND(ISNUMBER(E35),E35>=0,MOD(E35,1)=0),FALSE),1,0)) -> 0 | G35: =IF(AND(E35="",NOT(ISNUMBER(E35))),0,IF(IFERROR(AND(ISNUMBER(E35),E35>=0,MOD(E35,1)=0),FALSE),0,1)) -> 0 | H35: =IF($C$19="県外",IF(AND(E35="",NOT(ISNUMBER(E35))),"",IF(F35=1,E35,"")),IF($C$19="市内・市外",D35,""))
... A115: 磁気探査 | B115: 072 | C115: 磁気探査技士 | D115: =IF($C$19="市内・市外",有資格職員数名簿!L207,"") | F115: =IF(AND(E115="",NOT(ISNUMBER(E115))),0,IF(IFERROR(AND(ISNUMBER(E115),E115>=0,MOD(E115,1)=0),FALSE),1,0)) -> 0 | G115: =IF(AND(E115="",NOT(ISNUMBER(E115))),0,IF(IFERROR(AND(ISNUMBER(E115),E115>=0,MOD(E115,1)=0),FALSE),0,1)) -> 0 | H115: =IF($C$19="県外",IF(AND(E115="",NOT(ISNUMBER(E115))),"",IF(F115=1,E115,"")),IF($C$19="市内・市外",D115,""))

Sheet 希望業種
A2: 希望業種・業務実績・登録情報
A4: 黄色または赤色の欄に入力してください。NGは赤色、必須の未入力は薄い赤色で表示します。
A5: 希望する業種は「○」。実績は千円単位で入力し、実績平均は2年分から自動計算します。
A6: 未入力・NG件数 | B6: =COUNTIFS(K10:K17,"未入力*")+COUNTIFS(K10:K17,"NG*")+IF(COUNTIFS(B10:B17,"○")=0,1,0) -> 1 | C6: =IF(B6=0,"入力条件OK","希望業種を選択し、各行の入力チェックを確認してください") -> 希望業種を選択し、各行の入力チェックを確認してください
A8: 業種区分 | B8: 希望 | C8: 実績（千円） | F8: 建築士事務所の種類 | G8: 登録機関 | H8: 登録番号 | I8: 登録有効期間 | K8: 入力チェック
C9: 直前第2年分決算 | D9: 直前第1年分決算 | E9: 年間平均実績高 | I9: 開始日 | J9: 終了日（自動）
A10: 土木関係建設コンサルタント業務 | E10: =IF(AND(ISNUMBER(C10),ISNUMBER(D10)),ROUNDDOWN(AVERAGE(C10:D10),0),"") | K10: =IF(AND(NOT(AND(B10="",NOT(ISNUMBER(B10)))),B10<>"○"),"NG：希望は○",IF(B10<>"○","対象外",IF(OR(AND(C10="",NOT(ISNUMBER(C10))),AND(D10="",NOT(ISNUMBER(D10)))),"未入力：2年分の実績",IF(NOT(AND(IFERROR(AND(ISNUMBER(C10),C10>=0,MOD(C10,1)=0),FALSE),IFERROR(AND(ISNUMBER(D10),D10>=0,MOD(D10,1)=0),FALSE))),"NG：実績は0以上の整数","OK")))) -> 対象外
A11: 建築関係建設コンサルタント業務 | E11: =IF(AND(ISNUMBER(C11),ISNUMBER(D11)),ROUNDDOWN(AVERAGE(C11:D11),0),"") | J11: =IF(IFERROR(AND(ISNUMBER(I11),I11>=DATE(1900,1,1),I11<=DATE(9994,12,31),MOD(I11,1)=0),FALSE),DATE(YEAR(I11)+5,MONTH(I11),DAY(I11))-1,"") | K11: =IF(AND(NOT(AND(B11="",NOT(ISNUMBER(B11)))),B11<>"○"),"NG：希望は○",IF(B11<>"○","対象外",IF(OR(AND(C11="",NOT(ISNUMBER(C11))),AND(D11="",NOT(ISNUMBER(D11)))),"未入力：2年分の実績",IF(NOT(AND(IFERROR(AND(ISNUMBER(C11),C11>=0,MOD(C11,1)=0),FALSE),IFERROR(AND(ISNUMBER(D11),D11>=0,MOD(D11,1)=0),FALSE))),"NG：実績は0以上の整数",IF(AND(NOT(AND(F11="",NOT(ISNUMBER(F11)))),COUNTIFS(設定・マスタ!$K$5:$K$7,F11)=0),"NG：建築士事務所の種類を選択",IF(OR(AND(F11="",NOT(ISNUMBER(F11))),AND(G11="",NOT(ISNUMBER(G11))),AND(H11="",NOT(ISNUMBER(H11))),AND(I11="",NOT(ISNUMBER(I11)))),"未入力：登録情報",IF(COUNTIFS(設定・マスタ!$M$5:$M$52,G11)=0,"NG：登録機関を選択",IF(NOT(IFERROR(AND(FIND("-",H11)>1,FIND("-",H11)<LEN(H11)),FALSE)),"NG：登録番号は半角ハイフン区切り",IF(NOT(IFERROR(AND(ISNUMBER(I11),I11>=DATE(1900,1,1),I11<=DATE(9994,12,31),MOD(I11,1)=0),FALSE)),"NG：登録開始日","OK"))))))))) -> 対象外
A12: 測量業務 | E12: =IF(AND(ISNUMBER(C12),ISNUMBER(D12)),ROUNDDOWN(AVERAGE(C12:D12),0),"") | J12: =IF(IFERROR(AND(ISNUMBER(I12),I12>=DATE(1900,1,1),I12<=DATE(9994,12,31),MOD(I12,1)=0),FALSE),DATE(YEAR(I12)+5,MONTH(I12),DAY(I12))-1,"") | K12: =IF(AND(NOT(AND(B12="",NOT(ISNUMBER(B12)))),B12<>"○"),"NG：希望は○",IF(B12<>"○","対象外",IF(OR(AND(C12="",NOT(ISNUMBER(C12))),AND(D12="",NOT(ISNUMBER(D12)))),"未入力：2年分の実績",IF(NOT(AND(IFERROR(AND(ISNUMBER(C12),C12>=0,MOD(C12,1)=0),FALSE),IFERROR(AND(ISNUMBER(D12),D12>=0,MOD(D12,1)=0),FALSE))),"NG：実績は0以上の整数",IF(OR(AND(G12="",NOT(ISNUMBER(G12))),AND(H12="",NOT(ISNUMBER(H12))),AND(I12="",NOT(ISNUMBER(I12)))),"未入力：登録情報",IF(COUNTIFS(設定・マスタ!$O$5:$O$14,G12)=0,"NG：登録機関を選択",IF(NOT(IFERROR(AND(FIND("-",H12)>1,FIND("-",H12)<LEN(H12)),FALSE)),"NG：登録番号は半角ハイフン区切り",IF(NOT(IFERROR(AND(ISNUMBER(I12),I12>=DATE(1900,1,1),I12<=DATE(9994,12,31),MOD(I12,1)=0),FALSE)),"NG：登録開始日","OK")))))))) -> 対象外
A13: 地質調査業務 | E13: =IF(AND(ISNUMBER(C13),ISNUMBER(D13)),ROUNDDOWN(AVERAGE(C13:D13),0),"") | K13: =IF(AND(NOT(AND(B13="",NOT(ISNUMBER(B13)))),B13<>"○"),"NG：希望は○",IF(B13<>"○","対象外",IF(OR(AND(C13="",NOT(ISNUMBER(C13))),AND(D13="",NOT(ISNUMBER(D13)))),"未入力：2年分の実績",IF(NOT(AND(IFERROR(AND(ISNUMBER(C13),C13>=0,MOD(C13,1)=0),FALSE),IFERROR(AND(ISNUMBER(D13),D13>=0,MOD(D13,1)=0),FALSE))),"NG：実績は0以上の整数","OK")))) -> 対象外
A14: 補償関係コンサルタント業務 | E14: =IF(AND(ISNUMBER(C14),ISNUMBER(D14)),ROUNDDOWN(AVERAGE(C14:D14),0),"") | K14: =IF(AND(NOT(AND(B14="",NOT(ISNUMBER(B14)))),B14<>"○"),"NG：希望は○",IF(B14<>"○","対象外",IF(OR(AND(C14="",NOT(ISNUMBER(C14))),AND(D14="",NOT(ISNUMBER(D14)))),"未入力：2年分の実績",IF(NOT(AND(IFERROR(AND(ISNUMBER(C14),C14>=0,MOD(C14,1)=0),FALSE),IFERROR(AND(ISNUMBER(D14),D14>=0,MOD(D14,1)=0),FALSE))),"NG：実績は0以上の整数","OK")))) -> 対象外
A15: 調査業務 | E15: =IF(AND(ISNUMBER(C15),ISNUMBER(D15)),ROUNDDOWN(AVERAGE(C15:D15),0),"") | K15: =IF(AND(NOT(AND(B15="",NOT(ISNUMBER(B15)))),B15<>"○"),"NG：希望は○",IF(B15<>"○","対象外",IF(OR(AND(C15="",NOT(ISNUMBER(C15))),AND(D15="",NOT(ISNUMBER(D15)))),"未入力：2年分の実績",IF(NOT(AND(IFERROR(AND(ISNUMBER(C15),C15>=0,MOD(C15,1)=0),FALSE),IFERROR(AND(ISNUMBER(D15),D15>=0,MOD(D15,1)=0),FALSE))),"NG：実績は0以上の整数","OK")))) -> 対象外
A16: 磁気探査業務 | E16: =IF(AND(ISNUMBER(C16),ISNUMBER(D16)),ROUNDDOWN(AVERAGE(C16:D16),0),"") | K16: =IF(AND(NOT(AND(B16="",NOT(ISNUMBER(B16)))),B16<>"○"),"NG：希望は○",IF(B16<>"○","対象外",IF(OR(AND(C16="",NOT(ISNUMBER(C16))),AND(D16="",NOT(ISNUMBER(D16)))),"未入力：2年分の実績",IF(NOT(AND(IFERROR(AND(ISNUMBER(C16),C16>=0,MOD(C16,1)=0),FALSE),IFERROR(AND(ISNUMBER(D16),D16>=0,MOD(D16,1)=0),FALSE))),"NG：実績は0以上の整数","OK")))) -> 対象外
A17: 設備設計業務 | E17: =IF(AND(ISNUMBER(C17),ISNUMBER(D17)),ROUNDDOWN(AVERAGE(C17:D17),0),"") | K17: =IF(AND(NOT(AND(B17="",NOT(ISNUMBER(B17)))),B17<>"○"),"NG：希望は○",IF(B17<>"○","対象外",IF(OR(AND(C17="",NOT(ISNUMBER(C17))),AND(D17="",NOT(ISNUMBER(D17)))),"未入力：2年分の実績",IF(NOT(AND(IFERROR(AND(ISNUMBER(C17),C17>=0,MOD(C17,1)=0),FALSE),IFERROR(AND(ISNUMBER(D17),D17>=0,MOD(D17,1)=0),FALSE))),"NG：実績は0以上の整数","OK")))) -> 対象外
A19: ※実績がない年は、0を入力してください。
A20: ※「建築関係建設コンサルタント業務」を希望する方は、建築士事務所の種類をプルダウンから選択してください。
A21: ※「建築関係建設コンサルタント業務」「測量業務」を希望する方は、登録機関・登録番号をプルダウンから選択し、登録有効期間を入力してください。
A22: ※登録番号は半角ハイフン（-）で区切って入力してください。例：12-12345（桁数の指定はありません）。
A23: ※登録終了日は開始日の5年後の前日を自動表示します。

Sheet 有資格職員数名簿
A2: 有資格職員数名簿
A3: このシートは、所在地区分「市内」「市外」が対象です。「県外」は記入不要です。
A4: 黄色または赤色の欄に入力してください。1人1行。資格はコードと資格名のリストから選択してください。
A5: 範囲 | F5: 基準日 | G5: =設定・マスタ!I5 -> 46357 | M5: =IF(AND(B5="",NOT(ISNUMBER(B5))),"未入力",IF(NOT(OR(B5="会社全体",B5="委任先営業所")),"NG：集計範囲",IF(AND(B5="委任先営業所",基本情報!C26<>"する"),"NG：営業所への委任なし","OK"))) -> 未入力
A6: 名簿の入力がない場合は、下の「名簿の状態」で「該当者なし」を選択してください。
A7: 状態 | M7: =IF(AND(B7="",NOT(ISNUMBER(B7))),"未入力",IF(B7="該当者なし",IF(COUNTA(B11:L110)=0,"OK","NG：名簿の入力が残っています"),IF(B7="名簿を入力",IF(COUNTA(B11:L110)=0,"未入力","OK"),"NG：リストから選択"))) -> 未入力
A8: NG等 | B8: =SUM(N11:N110)+IF(M5="OK",0,1)+IF(M7="OK",0,1) -> 2 | M8: =IF(B8=0,"入力条件OK","要修正：名簿を確認") -> 要修正：名簿を確認
A9: 【注意】氏名は標準報酬決定通知書の順に入力してください。プルダウンの選択にない資格は入力の必要はございません。一人で同一資格（1級、2級建築士等）を有する場合は、上位（1級）のみ入力
A10: No. | B10: 氏名 | C10: 資格1 | D10: 資格2 | E10: 資格3 | F10: 資格4 | G10: 資格5 | H10: 資格6 | I10: 資格7 | J10: 資格8 | K10: 資格9 | L10: 資格10 | M10: 入力チェック | N10: NG件数
A11: 1 | M11: =IF(COUNTA(B11:L11)=0,"",IF(AND(B11="",NOT(ISNUMBER(B11))),"NG：氏名を入力",IF(COUNTA(C11:L11)=0,"NG：資格を選択",IF(OR(AND(NOT(AND(C11="",NOT(ISNUMBER(C11)))),ISNA(MATCH(C11,設定・マスタ!$H$5:$H$96,0))),AND(NOT(AND(D11="",NOT(ISNUMBER(D11)))),ISNA(MATCH(D11,設定・マスタ!$H$5:$H$96,0))),AND(NOT(AND(E11="",NOT(ISNUMBER(E11)))),ISNA(MATCH(E11,設定・マスタ!$H$5:$H$96,0))),AND(NOT(AND(F11="",NOT(ISNUMBER(F11)))),ISNA(MATCH(F11,設定・マスタ!$H$5:$H$96,0))),AND(NOT(AND(G11="",NOT(ISNUMBER(G11)))),ISNA(MATCH(G11,設定・マスタ!$H$5:$H$96,0))),AND(NOT(AND(H11="",NOT(ISNUMBER(H11)))),ISNA(MATCH(H11,設定・マスタ!$H$5:$H$96,0))),AND(NOT(AND(I11="",NOT(ISNUMBER(I11)))),ISNA(MATCH(I11,設定・マスタ!$H$5:$H$96,0))),AND(NOT(AND(J11="",NOT(ISNUMBER(J11)))),ISNA(MATCH(J11,設定・マスタ!$H$5:$H$96,0))),AND(NOT(AND(K11="",NOT(ISNUMBER(K11)))),ISNA(MATCH(K11,設定・マスタ!$H$5:$H$96,0))),AND(NOT(AND(L11="",NOT(ISNUMBER(L11)))),ISNA(MATCH(L11,設定・マスタ!$H$5:$H$96,0)))),"NG：リストから選択",IF(OR(AND(NOT(AND(C11="",NOT(ISNUMBER(C11)))),COUNTIFS(C11:L11,C11)>1),AND(NOT(AND(D11="",NOT(ISNUMBER(D11)))),COUNTIFS(C11:L11,D11)>1),AND(NOT(AND(E11="",NOT(ISNUMBER(E11)))),COUNTIFS(C11:L11,E11)>1),AND(NOT(AND(F11="",NOT(ISNUMBER(F11)))),COUNTIFS(C11:L11,F11)>1),AND(NOT(AND(G11="",NOT(ISNUMBER(G11)))),COUNTIFS(C11:L11,G11)>1),AND(NOT(AND(H11="",NOT(ISNUMBER(H11)))),COUNTIFS(C11:L11,H11)>1),AND(NOT(AND(I11="",NOT(ISNUMBER(I11)))),COUNTIFS(C11:L11,I11)>1),AND(NOT(AND(J11="",NOT(ISNUMBER(J11)))),COUNTIFS(C11:L11,J11)>1),AND(NOT(AND(K11="",NOT(ISNUMBER(K11)))),COUNTIFS(C11:L11,K11)>1),AND(NOT(AND(L11="",NOT(ISNUMBER(L11)))),COUNTIFS(C11:L11,L11)>1)),"NG：同じ資格が重複",IF(COUNTIFS($B$11:$B$110,B11)>1,"要確認：同名の職員","OK")))))) | N11: =IF(LEFT(M11,2)="NG",1,0) -> 0
A12: 2 | M12: =IF(COUNTA(B12:L12)=0,"",IF(AND(B12="",NOT(ISNUMBER(B12))),"NG：氏名を入力",IF(COUNTA(C12:L12)=0,"NG：資格を選択",IF(OR(AND(NOT(AND(C12="",NOT(ISNUMBER(C12)))),ISNA(MATCH(C12,設定・マスタ!$H$5:$H$96,0))),AND(NOT(AND(D12="",NOT(ISNUMBER(D12)))),ISNA(MATCH(D12,設定・マスタ!$H$5:$H$96,0))),AND(NOT(AND(E12="",NOT(ISNUMBER(E12)))),ISNA(MATCH(E12,設定・マスタ!$H$5:$H$96,0))),AND(NOT(AND(F12="",NOT(ISNUMBER(F12)))),ISNA(MATCH(F12,設定・マスタ!$H$5:$H$96,0))),AND(NOT(AND(G12="",NOT(ISNUMBER(G12)))),ISNA(MATCH(G12,設定・マスタ!$H$5:$H$96,0))),AND(NOT(AND(H12="",NOT(ISNUMBER(H12)))),ISNA(MATCH(H12,設定・マスタ!$H$5:$H$96,0))),AND(NOT(AND(I12="",NOT(ISNUMBER(I12)))),ISNA(MATCH(I12,設定・マスタ!$H$5:$H$96,0))),AND(NOT(AND(J12="",NOT(ISNUMBER(J12)))),ISNA(MATCH(J12,設定・マスタ!$H$5:$H$96,0))),AND(NOT(AND(K12="",NOT(ISNUMBER(K12)))),ISNA(MATCH(K12,設定・マスタ!$H$5:$H$96,0))),AND(NOT(AND(L12="",NOT(ISNUMBER(L12)))),ISNA(MATCH(L12,設定・マスタ!$H$5:$H$96,0)))),"NG：リストから選択",IF(OR(AND(NOT(AND(C12="",NOT(ISNUMBER(C12)))),COUNTIFS(C12:L12,C12)>1),AND(NOT(AND(D12="",NOT(ISNUMBER(D12)))),COUNTIFS(C12:L12,D12)>1),AND(NOT(AND(E12="",NOT(ISNUMBER(E12)))),COUNTIFS(C12:L12,E12)>1),AND(NOT(AND(F12="",NOT(ISNUMBER(F12)))),COUNTIFS(C12:L12,F12)>1),AND(NOT(AND(G12="",NOT(ISNUMBER(G12)))),COUNTIFS(C12:L12,G12)>1),AND(NOT(AND(H12="",NOT(ISNUMBER(H12)))),COUNTIFS(C12:L12,H12)>1),AND(NOT(AND(I12="",NOT(ISNUMBER(I12)))),COUNTIFS(C12:L12,I12)>1),AND(NOT(AND(J12="",NOT(ISNUMBER(J12)))),COUNTIFS(C12:L12,J12)>1),AND(NOT(AND(K12="",NOT(ISNUMBER(K12)))),COUNTIFS(C12:L12,K12)>1),AND(NOT(AND(L12="",NOT(ISNUMBER(L12)))),COUNTIFS(C12:L12,L12)>1)),"NG：同じ資格が重複",IF(COUNTIFS($B$11:$B$110,B12)>1,"要確認：同名の職員","OK")))))) | N12: =IF(LEFT(M12,2)="NG",1,0) -> 0
A13: 3 | M13: =IF(COUNTA(B13:L13)=0,"",IF(AND(B13="",NOT(ISNUMBER(B13))),"NG：氏名を入力",IF(COUNTA(C13:L13)=0,"NG：資格を選択",IF(OR(AND(NOT(AND(C13="",NOT(ISNUMBER(C13)))),ISNA(MATCH(C13,設定・マスタ!$H$5:$H$96,0))),AND(NOT(AND(D13="",NOT(ISNUMBER(D13)))),ISNA(MATCH(D13,設定・マスタ!$H$5:$H$96,0))),AND(NOT(AND(E13="",NOT(ISNUMBER(E13)))),ISNA(MATCH(E13,設定・マスタ!$H$5:$H$96,0))),AND(NOT(AND(F13="",NOT(ISNUMBER(F13)))),ISNA(MATCH(F13,設定・マスタ!$H$5:$H$96,0))),AND(NOT(AND(G13="",NOT(ISNUMBER(G13)))),ISNA(MATCH(G13,設定・マスタ!$H$5:$H$96,0))),AND(NOT(AND(H13="",NOT(ISNUMBER(H13)))),ISNA(MATCH(H13,設定・マスタ!$H$5:$H$96,0))),AND(NOT(AND(I13="",NOT(ISNUMBER(I13)))),ISNA(MATCH(I13,設定・マスタ!$H$5:$H$96,0))),AND(NOT(AND(J13="",NOT(ISNUMBER(J13)))),ISNA(MATCH(J13,設定・マスタ!$H$5:$H$96,0))),AND(NOT(AND(K13="",NOT(ISNUMBER(K13)))),ISNA(MATCH(K13,設定・マスタ!$H$5:$H$96,0))),AND(NOT(AND(L13="",NOT(ISNUMBER(L13)))),ISNA(MATCH(L13,設定・マスタ!$H$5:$H$96,0)))),"NG：リストから選択",IF(OR(AND(NOT(AND(C13="",NOT(ISNUMBER(C13)))),COUNTIFS(C13:L13,C13)>1),AND(NOT(AND(D13="",NOT(ISNUMBER(D13)))),COUNTIFS(C13:L13,D13)>1),AND(NOT(AND(E13="",NOT(ISNUMBER(E13)))),COUNTIFS(C13:L13,E13)>1),AND(NOT(AND(F13="",NOT(ISNUMBER(F13)))),COUNTIFS(C13:L13,F13)>1),AND(NOT(AND(G13="",NOT(ISNUMBER(G13)))),COUNTIFS(C13:L13,G13)>1),AND(NOT(AND(H13="",NOT(ISNUMBER(H13)))),COUNTIFS(C13:L13,H13)>1),AND(NOT(AND(I13="",NOT(ISNUMBER(I13)))),COUNTIFS(C13:L13,I13)>1),AND(NOT(AND(J13="",NOT(ISNUMBER(J13)))),COUNTIFS(C13:L13,J13)>1),AND(NOT(AND(K13="",NOT(ISNUMBER(K13)))),COUNTIFS(C13:L13,K13)>1),AND(NOT(AND(L13="",NOT(ISNUMBER(L13)))),COUNTIFS(C13:L13,L13)>1)),"NG：同じ資格が重複",IF(COUNTIFS($B$11:$B$110,B13)>1,"要確認：同名の職員","OK")))))) | N13: =IF(LEFT(M13,2)="NG",1,0) -> 0
A14: 4 | M14: =IF(COUNTA(B14:L14)=0,"",IF(AND(B14="",NOT(ISNUMBER(B14))),"NG：氏名を入力",IF(COUNTA(C14:L14)=0,"NG：資格を選択",IF(OR(AND(NOT(AND(C14="",NOT(ISNUMBER(C14)))),ISNA(MATCH(C14,設定・マスタ!$H$5:$H$96,0))),AND(NOT(AND(D14="",NOT(ISNUMBER(D14)))),ISNA(MATCH(D14,設定・マスタ!$H$5:$H$96,0))),AND(NOT(AND(E14="",NOT(ISNUMBER(E14)))),ISNA(MATCH(E14,設定・マスタ!$H$5:$H$96,0))),AND(NOT(AND(F14="",NOT(ISNUMBER(F14)))),ISNA(MATCH(F14,設定・マスタ!$H$5:$H$96,0))),AND(NOT(AND(G14="",NOT(ISNUMBER(G14)))),ISNA(MATCH(G14,設定・マスタ!$H$5:$H$96,0))),AND(NOT(AND(H14="",NOT(ISNUMBER(H14)))),ISNA(MATCH(H14,設定・マスタ!$H$5:$H$96,0))),AND(NOT(AND(I14="",NOT(ISNUMBER(I14)))),ISNA(MATCH(I14,設定・マスタ!$H$5:$H$96,0))),AND(NOT(AND(J14="",NOT(ISNUMBER(J14)))),ISNA(MATCH(J14,設定・マスタ!$H$5:$H$96,0))),AND(NOT(AND(K14="",NOT(ISNUMBER(K14)))),ISNA(MATCH(K14,設定・マスタ!$H$5:$H$96,0))),AND(NOT(AND(L14="",NOT(ISNUMBER(L14)))),ISNA(MATCH(L14,設定・マスタ!$H$5:$H$96,0)))),"NG：リストから選択",IF(OR(AND(NOT(AND(C14="",NOT(ISNUMBER(C14)))),COUNTIFS(C14:L14,C14)>1),AND(NOT(AND(D14="",NOT(ISNUMBER(D14)))),COUNTIFS(C14:L14,D14)>1),AND(NOT(AND(E14="",NOT(ISNUMBER(E14)))),COUNTIFS(C14:L14,E14)>1),AND(NOT(AND(F14="",NOT(ISNUMBER(F14)))),COUNTIFS(C14:L14,F14)>1),AND(NOT(AND(G14="",NOT(ISNUMBER(G14)))),COUNTIFS(C14:L14,G14)>1),AND(NOT(AND(H14="",NOT(ISNUMBER(H14)))),COUNTIFS(C14:L14,H14)>1),AND(NOT(AND(I14="",NOT(ISNUMBER(I14)))),COUNTIFS(C14:L14,I14)>1),AND(NOT(AND(J14="",NOT(ISNUMBER(J14)))),COUNTIFS(C14:L14,J14)>1),AND(NOT(AND(K14="",NOT(ISNUMBER(K14)))),COUNTIFS(C14:L14,K14)>1),AND(NOT(AND(L14="",NOT(ISNUMBER(L14)))),COUNTIFS(C14:L14,L14)>1)),"NG：同じ資格が重複",IF(COUNTIFS($B$11:$B$110,B14)>1,"要確認：同名の職員","OK")))))) | N14: =IF(LEFT(M14,2)="NG",1,0) -> 0
A15: 5 | M15: =IF(COUNTA(B15:L15)=0,"",IF(AND(B15="",NOT(ISNUMBER(B15))),"NG：氏名を入力",IF(COUNTA(C15:L15)=0,"NG：資格を選択",IF(OR(AND(NOT(AND(C15="",NOT(ISNUMBER(C15)))),ISNA(MATCH(C15,設定・マスタ!$H$5:$H$96,0))),AND(NOT(AND(D15="",NOT(ISNUMBER(D15)))),ISNA(MATCH(D15,設定・マスタ!$H$5:$H$96,0))),AND(NOT(AND(E15="",NOT(ISNUMBER(E15)))),ISNA(MATCH(E15,設定・マスタ!$H$5:$H$96,0))),AND(NOT(AND(F15="",NOT(ISNUMBER(F15)))),ISNA(MATCH(F15,設定・マスタ!$H$5:$H$96,0))),AND(NOT(AND(G15="",NOT(ISNUMBER(G15)))),ISNA(MATCH(G15,設定・マスタ!$H$5:$H$96,0))),AND(NOT(AND(H15="",NOT(ISNUMBER(H15)))),ISNA(MATCH(H15,設定・マスタ!$H$5:$H$96,0))),AND(NOT(AND(I15="",NOT(ISNUMBER(I15)))),ISNA(MATCH(I15,設定・マスタ!$H$5:$H$96,0))),AND(NOT(AND(J15="",NOT(ISNUMBER(J15)))),ISNA(MATCH(J15,設定・マスタ!$H$5:$H$96,0))),AND(NOT(AND(K15="",NOT(ISNUMBER(K15)))),ISNA(MATCH(K15,設定・マスタ!$H$5:$H$96,0))),AND(NOT(AND(L15="",NOT(ISNUMBER(L15)))),ISNA(MATCH(L15,設定・マスタ!$H$5:$H$96,0)))),"NG：リストから選択",IF(OR(AND(NOT(AND(C15="",NOT(ISNUMBER(C15)))),COUNTIFS(C15:L15,C15)>1),AND(NOT(AND(D15="",NOT(ISNUMBER(D15)))),COUNTIFS(C15:L15,D15)>1),AND(NOT(AND(E15="",NOT(ISNUMBER(E15)))),COUNTIFS(C15:L15,E15)>1),AND(NOT(AND(F15="",NOT(ISNUMBER(F15)))),COUNTIFS(C15:L15,F15)>1),AND(NOT(AND(G15="",NOT(ISNUMBER(G15)))),COUNTIFS(C15:L15,G15)>1),AND(NOT(AND(H15="",NOT(ISNUMBER(H15)))),COUNTIFS(C15:L15,H15)>1),AND(NOT(AND(I15="",NOT(ISNUMBER(I15)))),COUNTIFS(C15:L15,I15)>1),AND(NOT(AND(J15="",NOT(ISNUMBER(J15)))),COUNTIFS(C15:L15,J15)>1),AND(NOT(AND(K15="",NOT(ISNUMBER(K15)))),COUNTIFS(C15:L15,K15)>1),AND(NOT(AND(L15="",NOT(ISNUMBER(L15)))),COUNTIFS(C15:L15,L15)>1)),"NG：同じ資格が重複",IF(COUNTIFS($B$11:$B$110,B15)>1,"要確認：同名の職員","OK")))))) | N15: =IF(LEFT(M15,2)="NG",1,0) -> 0
A16: 6 | M16: =IF(COUNTA(B16:L16)=0,"",IF(AND(B16="",NOT(ISNUMBER(B16))),"NG：氏名を入力",IF(COUNTA(C16:L16)=0,"NG：資格を選択",IF(OR(AND(NOT(AND(C16="",NOT(ISNUMBER(C16)))),ISNA(MATCH(C16,設定・マスタ!$H$5:$H$96,0))),AND(NOT(AND(D16="",NOT(ISNUMBER(D16)))),ISNA(MATCH(D16,設定・マスタ!$H$5:$H$96,0))),AND(NOT(AND(E16="",NOT(ISNUMBER(E16)))),ISNA(MATCH(E16,設定・マスタ!$H$5:$H$96,0))),AND(NOT(AND(F16="",NOT(ISNUMBER(F16)))),ISNA(MATCH(F16,設定・マスタ!$H$5:$H$96,0))),AND(NOT(AND(G16="",NOT(ISNUMBER(G16)))),ISNA(MATCH(G16,設定・マスタ!$H$5:$H$96,0))),AND(NOT(AND(H16="",NOT(ISNUMBER(H16)))),ISNA(MATCH(H16,設定・マスタ!$H$5:$H$96,0))),AND(NOT(AND(I16="",NOT(ISNUMBER(I16)))),ISNA(MATCH(I16,設定・マスタ!$H$5:$H$96,0))),AND(NOT(AND(J16="",NOT(ISNUMBER(J16)))),ISNA(MATCH(J16,設定・マスタ!$H$5:$H$96,0))),AND(NOT(AND(K16="",NOT(ISNUMBER(K16)))),ISNA(MATCH(K16,設定・マスタ!$H$5:$H$96,0))),AND(NOT(AND(L16="",NOT(ISNUMBER(L16)))),ISNA(MATCH(L16,設定・マスタ!$H$5:$H$96,0)))),"NG：リストから選択",IF(OR(AND(NOT(AND(C16="",NOT(ISNUMBER(C16)))),COUNTIFS(C16:L16,C16)>1),AND(NOT(AND(D16="",NOT(ISNUMBER(D16)))),COUNTIFS(C16:L16,D16)>1),AND(NOT(AND(E16="",NOT(ISNUMBER(E16)))),COUNTIFS(C16:L16,E16)>1),AND(NOT(AND(F16="",NOT(ISNUMBER(F16)))),COUNTIFS(C16:L16,F16)>1),AND(NOT(AND(G16="",NOT(ISNUMBER(G16)))),COUNTIFS(C16:L16,G16)>1),AND(NOT(AND(H16="",NOT(ISNUMBER(H16)))),COUNTIFS(C16:L16,H16)>1),AND(NOT(AND(I16="",NOT(ISNUMBER(I16)))),COUNTIFS(C16:L16,I16)>1),AND(NOT(AND(J16="",NOT(ISNUMBER(J16)))),COUNTIFS(C16:L16,J16)>1),AND(NOT(AND(K16="",NOT(ISNUMBER(K16)))),COUNTIFS(C16:L16,K16)>1),AND(NOT(AND(L16="",NOT(ISNUMBER(L16)))),COUNTIFS(C16:L16,L16)>1)),"NG：同じ資格が重複",IF(COUNTIFS($B$11:$B$110,B16)>1,"要確認：同名の職員","OK")))))) | N16: =IF(LEFT(M16,2)="NG",1,0) -> 0
A17: 7 | M17: =IF(COUNTA(B17:L17)=0,"",IF(AND(B17="",NOT(ISNUMBER(B17))),"NG：氏名を入力",IF(COUNTA(C17:L17)=0,"NG：資格を選択",IF(OR(AND(NOT(AND(C17="",NOT(ISNUMBER(C17)))),ISNA(MATCH(C17,設定・マスタ!$H$5:$H$96,0))),AND(NOT(AND(D17="",NOT(ISNUMBER(D17)))),ISNA(MATCH(D17,設定・マスタ!$H$5:$H$96,0))),AND(NOT(AND(E17="",NOT(ISNUMBER(E17)))),ISNA(MATCH(E17,設定・マスタ!$H$5:$H$96,0))),AND(NOT(AND(F17="",NOT(ISNUMBER(F17)))),ISNA(MATCH(F17,設定・マスタ!$H$5:$H$96,0))),AND(NOT(AND(G17="",NOT(ISNUMBER(G17)))),ISNA(MATCH(G17,設定・マスタ!$H$5:$H$96,0))),AND(NOT(AND(H17="",NOT(ISNUMBER(H17)))),ISNA(MATCH(H17,設定・マスタ!$H$5:$H$96,0))),AND(NOT(AND(I17="",NOT(ISNUMBER(I17)))),ISNA(MATCH(I17,設定・マスタ!$H$5:$H$96,0))),AND(NOT(AND(J17="",NOT(ISNUMBER(J17)))),ISNA(MATCH(J17,設定・マスタ!$H$5:$H$96,0))),AND(NOT(AND(K17="",NOT(ISNUMBER(K17)))),ISNA(MATCH(K17,設定・マスタ!$H$5:$H$96,0))),AND(NOT(AND(L17="",NOT(ISNUMBER(L17)))),ISNA(MATCH(L17,設定・マスタ!$H$5:$H$96,0)))),"NG：リストから選択",IF(OR(AND(NOT(AND(C17="",NOT(ISNUMBER(C17)))),COUNTIFS(C17:L17,C17)>1),AND(NOT(AND(D17="",NOT(ISNUMBER(D17)))),COUNTIFS(C17:L17,D17)>1),AND(NOT(AND(E17="",NOT(ISNUMBER(E17)))),COUNTIFS(C17:L17,E17)>1),AND(NOT(AND(F17="",NOT(ISNUMBER(F17)))),COUNTIFS(C17:L17,F17)>1),AND(NOT(AND(G17="",NOT(ISNUMBER(G17)))),COUNTIFS(C17:L17,G17)>1),AND(NOT(AND(H17="",NOT(ISNUMBER(H17)))),COUNTIFS(C17:L17,H17)>1),AND(NOT(AND(I17="",NOT(ISNUMBER(I17)))),COUNTIFS(C17:L17,I17)>1),AND(NOT(AND(J17="",NOT(ISNUMBER(J17)))),COUNTIFS(C17:L17,J17)>1),AND(NOT(AND(K17="",NOT(ISNUMBER(K17)))),COUNTIFS(C17:L17,K17)>1),AND(NOT(AND(L17="",NOT(ISNUMBER(L17)))),COUNTIFS(C17:L17,L17)>1)),"NG：同じ資格が重複",IF(COUNTIFS($B$11:$B$110,B17)>1,"要確認：同名の職員","OK")))))) | N17: =IF(LEFT(M17,2)="NG",1,0) -> 0
A18: 8 | M18: =IF(COUNTA(B18:L18)=0,"",IF(AND(B18="",NOT(ISNUMBER(B18))),"NG：氏名を入力",IF(COUNTA(C18:L18)=0,"NG：資格を選択",IF(OR(AND(NOT(AND(C18="",NOT(ISNUMBER(C18)))),ISNA(MATCH(C18,設定・マスタ!$H$5:$H$96,0))),AND(NOT(AND(D18="",NOT(ISNUMBER(D18)))),ISNA(MATCH(D18,設定・マスタ!$H$5:$H$96,0))),AND(NOT(AND(E18="",NOT(ISNUMBER(E18)))),ISNA(MATCH(E18,設定・マスタ!$H$5:$H$96,0))),AND(NOT(AND(F18="",NOT(ISNUMBER(F18)))),ISNA(MATCH(F18,設定・マスタ!$H$5:$H$96,0))),AND(NOT(AND(G18="",NOT(ISNUMBER(G18)))),ISNA(MATCH(G18,設定・マスタ!$H$5:$H$96,0))),AND(NOT(AND(H18="",NOT(ISNUMBER(H18)))),ISNA(MATCH(H18,設定・マスタ!$H$5:$H$96,0))),AND(NOT(AND(I18="",NOT(ISNUMBER(I18)))),ISNA(MATCH(I18,設定・マスタ!$H$5:$H$96,0))),AND(NOT(AND(J18="",NOT(ISNUMBER(J18)))),ISNA(MATCH(J18,設定・マスタ!$H$5:$H$96,0))),AND(NOT(AND(K18="",NOT(ISNUMBER(K18)))),ISNA(MATCH(K18,設定・マスタ!$H$5:$H$96,0))),AND(NOT(AND(L18="",NOT(ISNUMBER(L18)))),ISNA(MATCH(L18,設定・マスタ!$H$5:$H$96,0)))),"NG：リストから選択",IF(OR(AND(NOT(AND(C18="",NOT(ISNUMBER(C18)))),COUNTIFS(C18:L18,C18)>1),AND(NOT(AND(D18="",NOT(ISNUMBER(D18)))),COUNTIFS(C18:L18,D18)>1),AND(NOT(AND(E18="",NOT(ISNUMBER(E18)))),COUNTIFS(C18:L18,E18)>1),AND(NOT(AND(F18="",NOT(ISNUMBER(F18)))),COUNTIFS(C18:L18,F18)>1),AND(NOT(AND(G18="",NOT(ISNUMBER(G18)))),COUNTIFS(C18:L18,G18)>1),AND(NOT(AND(H18="",NOT(ISNUMBER(H18)))),COUNTIFS(C18:L18,H18)>1),AND(NOT(AND(I18="",NOT(ISNUMBER(I18)))),COUNTIFS(C18:L18,I18)>1),AND(NOT(AND(J18="",NOT(ISNUMBER(J18)))),COUNTIFS(C18:L18,J18)>1),AND(NOT(AND(K18="",NOT(ISNUMBER(K18)))),COUNTIFS(C18:L18,K18)>1),AND(NOT(AND(L18="",NOT(ISNUMBER(L18)))),COUNTIFS(C18:L18,L18)>1)),"NG：同じ資格が重複",IF(COUNTIFS($B$11:$B$110,B18)>1,"要確認：同名の職員","OK")))))) | N18: =IF(LEFT(M18,2)="NG",1,0) -> 0
A19: 9 | M19: =IF(COUNTA(B19:L19)=0,"",IF(AND(B19="",NOT(ISNUMBER(B19))),"NG：氏名を入力",IF(COUNTA(C19:L19)=0,"NG：資格を選択",IF(OR(AND(NOT(AND(C19="",NOT(ISNUMBER(C19)))),ISNA(MATCH(C19,設定・マスタ!$H$5:$H$96,0))),AND(NOT(AND(D19="",NOT(ISNUMBER(D19)))),ISNA(MATCH(D19,設定・マスタ!$H$5:$H$96,0))),AND(NOT(AND(E19="",NOT(ISNUMBER(E19)))),ISNA(MATCH(E19,設定・マスタ!$H$5:$H$96,0))),AND(NOT(AND(F19="",NOT(ISNUMBER(F19)))),ISNA(MATCH(F19,設定・マスタ!$H$5:$H$96,0))),AND(NOT(AND(G19="",NOT(ISNUMBER(G19)))),ISNA(MATCH(G19,設定・マスタ!$H$5:$H$96,0))),AND(NOT(AND(H19="",NOT(ISNUMBER(H19)))),ISNA(MATCH(H19,設定・マスタ!$H$5:$H$96,0))),AND(NOT(AND(I19="",NOT(ISNUMBER(I19)))),ISNA(MATCH(I19,設定・マスタ!$H$5:$H$96,0))),AND(NOT(AND(J19="",NOT(ISNUMBER(J19)))),ISNA(MATCH(J19,設定・マスタ!$H$5:$H$96,0))),AND(NOT(AND(K19="",NOT(ISNUMBER(K19)))),ISNA(MATCH(K19,設定・マスタ!$H$5:$H$96,0))),AND(NOT(AND(L19="",NOT(ISNUMBER(L19)))),ISNA(MATCH(L19,設定・マスタ!$H$5:$H$96,0)))),"NG：リストから選択",IF(OR(AND(NOT(AND(C19="",NOT(ISNUMBER(C19)))),COUNTIFS(C19:L19,C19)>1),AND(NOT(AND(D19="",NOT(ISNUMBER(D19)))),COUNTIFS(C19:L19,D19)>1),AND(NOT(AND(E19="",NOT(ISNUMBER(E19)))),COUNTIFS(C19:L19,E19)>1),AND(NOT(AND(F19="",NOT(ISNUMBER(F19)))),COUNTIFS(C19:L19,F19)>1),AND(NOT(AND(G19="",NOT(ISNUMBER(G19)))),COUNTIFS(C19:L19,G19)>1),AND(NOT(AND(H19="",NOT(ISNUMBER(H19)))),COUNTIFS(C19:L19,H19)>1),AND(NOT(AND(I19="",NOT(ISNUMBER(I19)))),COUNTIFS(C19:L19,I19)>1),AND(NOT(AND(J19="",NOT(ISNUMBER(J19)))),COUNTIFS(C19:L19,J19)>1),AND(NOT(AND(K19="",NOT(ISNUMBER(K19)))),COUNTIFS(C19:L19,K19)>1),AND(NOT(AND(L19="",NOT(ISNUMBER(L19)))),COUNTIFS(C19:L19,L19)>1)),"NG：同じ資格が重複",IF(COUNTIFS($B$11:$B$110,B19)>1,"要確認：同名の職員","OK")))))) | N19: =IF(LEFT(M19,2)="NG",1,0) -> 0
A20: 10 | M20: =IF(COUNTA(B20:L20)=0,"",IF(AND(B20="",NOT(ISNUMBER(B20))),"NG：氏名を入力",IF(COUNTA(C20:L20)=0,"NG：資格を選択",IF(OR(AND(NOT(AND(C20="",NOT(ISNUMBER(C20)))),ISNA(MATCH(C20,設定・マスタ!$H$5:$H$96,0))),AND(NOT(AND(D20="",NOT(ISNUMBER(D20)))),ISNA(MATCH(D20,設定・マスタ!$H$5:$H$96,0))),AND(NOT(AND(E20="",NOT(ISNUMBER(E20)))),ISNA(MATCH(E20,設定・マスタ!$H$5:$H$96,0))),AND(NOT(AND(F20="",NOT(ISNUMBER(F20)))),ISNA(MATCH(F20,設定・マスタ!$H$5:$H$96,0))),AND(NOT(AND(G20="",NOT(ISNUMBER(G20)))),ISNA(MATCH(G20,設定・マスタ!$H$5:$H$96,0))),AND(NOT(AND(H20="",NOT(ISNUMBER(H20)))),ISNA(MATCH(H20,設定・マスタ!$H$5:$H$96,0))),AND(NOT(AND(I20="",NOT(ISNUMBER(I20)))),ISNA(MATCH(I20,設定・マスタ!$H$5:$H$96,0))),AND(NOT(AND(J20="",NOT(ISNUMBER(J20)))),ISNA(MATCH(J20,設定・マスタ!$H$5:$H$96,0))),AND(NOT(AND(K20="",NOT(ISNUMBER(K20)))),ISNA(MATCH(K20,設定・マスタ!$H$5:$H$96,0))),AND(NOT(AND(L20="",NOT(ISNUMBER(L20)))),ISNA(MATCH(L20,設定・マスタ!$H$5:$H$96,0)))),"NG：リストから選択",IF(OR(AND(NOT(AND(C20="",NOT(ISNUMBER(C20)))),COUNTIFS(C20:L20,C20)>1),AND(NOT(AND(D20="",NOT(ISNUMBER(D20)))),COUNTIFS(C20:L20,D20)>1),AND(NOT(AND(E20="",NOT(ISNUMBER(E20)))),COUNTIFS(C20:L20,E20)>1),AND(NOT(AND(F20="",NOT(ISNUMBER(F20)))),COUNTIFS(C20:L20,F20)>1),AND(NOT(AND(G20="",NOT(ISNUMBER(G20)))),COUNTIFS(C20:L20,G20)>1),AND(NOT(AND(H20="",NOT(ISNUMBER(H20)))),COUNTIFS(C20:L20,H20)>1),AND(NOT(AND(I20="",NOT(ISNUMBER(I20)))),COUNTIFS(C20:L20,I20)>1),AND(NOT(AND(J20="",NOT(ISNUMBER(J20)))),COUNTIFS(C20:L20,J20)>1),AND(NOT(AND(K20="",NOT(ISNUMBER(K20)))),COUNTIFS(C20:L20,K20)>1),AND(NOT(AND(L20="",NOT(ISNUMBER(L20)))),COUNTIFS(C20:L20,L20)>1)),"NG：同じ資格が重複",IF(COUNTIFS($B$11:$B$110,B20)>1,"要確認：同名の職員","OK")))))) | N20: =IF(LEFT(M20,2)="NG",1,0) -> 0
A21: 11 | M21: =IF(COUNTA(B21:L21)=0,"",IF(AND(B21="",NOT(ISNUMBER(B21))),"NG：氏名を入力",IF(COUNTA(C21:L21)=0,"NG：資格を選択",IF(OR(AND(NOT(AND(C21="",NOT(ISNUMBER(C21)))),ISNA(MATCH(C21,設定・マスタ!$H$5:$H$96,0))),AND(NOT(AND(D21="",NOT(ISNUMBER(D21)))),ISNA(MATCH(D21,設定・マスタ!$H$5:$H$96,0))),AND(NOT(AND(E21="",NOT(ISNUMBER(E21)))),ISNA(MATCH(E21,設定・マスタ!$H$5:$H$96,0))),AND(NOT(AND(F21="",NOT(ISNUMBER(F21)))),ISNA(MATCH(F21,設定・マスタ!$H$5:$H$96,0))),AND(NOT(AND(G21="",NOT(ISNUMBER(G21)))),ISNA(MATCH(G21,設定・マスタ!$H$5:$H$96,0))),AND(NOT(AND(H21="",NOT(ISNUMBER(H21)))),ISNA(MATCH(H21,設定・マスタ!$H$5:$H$96,0))),AND(NOT(AND(I21="",NOT(ISNUMBER(I21)))),ISNA(MATCH(I21,設定・マスタ!$H$5:$H$96,0))),AND(NOT(AND(J21="",NOT(ISNUMBER(J21)))),ISNA(MATCH(J21,設定・マスタ!$H$5:$H$96,0))),AND(NOT(AND(K21="",NOT(ISNUMBER(K21)))),ISNA(MATCH(K21,設定・マスタ!$H$5:$H$96,0))),AND(NOT(AND(L21="",NOT(ISNUMBER(L21)))),ISNA(MATCH(L21,設定・マスタ!$H$5:$H$96,0)))),"NG：リストから選択",IF(OR(AND(NOT(AND(C21="",NOT(ISNUMBER(C21)))),COUNTIFS(C21:L21,C21)>1),AND(NOT(AND(D21="",NOT(ISNUMBER(D21)))),COUNTIFS(C21:L21,D21)>1),AND(NOT(AND(E21="",NOT(ISNUMBER(E21)))),COUNTIFS(C21:L21,E21)>1),AND(NOT(AND(F21="",NOT(ISNUMBER(F21)))),COUNTIFS(C21:L21,F21)>1),AND(NOT(AND(G21="",NOT(ISNUMBER(G21)))),COUNTIFS(C21:L21,G21)>1),AND(NOT(AND(H21="",NOT(ISNUMBER(H21)))),COUNTIFS(C21:L21,H21)>1),AND(NOT(AND(I21="",NOT(ISNUMBER(I21)))),COUNTIFS(C21:L21,I21)>1),AND(NOT(AND(J21="",NOT(ISNUMBER(J21)))),COUNTIFS(C21:L21,J21)>1),AND(NOT(AND(K21="",NOT(ISNUMBER(K21)))),COUNTIFS(C21:L21,K21)>1),AND(NOT(AND(L21="",NOT(ISNUMBER(L21)))),COUNTIFS(C21:L21,L21)>1)),"NG：同じ資格が重複",IF(COUNTIFS($B$11:$B$110,B21)>1,"要確認：同名の職員","OK")))))) | N21: =IF(LEFT(M21,2)="NG",1,0) -> 0
A22: 12 | M22: =IF(COUNTA(B22:L22)=0,"",IF(AND(B22="",NOT(ISNUMBER(B22))),"NG：氏名を入力",IF(COUNTA(C22:L22)=0,"NG：資格を選択",IF(OR(AND(NOT(AND(C22="",NOT(ISNUMBER(C22)))),ISNA(MATCH(C22,設定・マスタ!$H$5:$H$96,0))),AND(NOT(AND(D22="",NOT(ISNUMBER(D22)))),ISNA(MATCH(D22,設定・マスタ!$H$5:$H$96,0))),AND(NOT(AND(E22="",NOT(ISNUMBER(E22)))),ISNA(MATCH(E22,設定・マスタ!$H$5:$H$96,0))),AND(NOT(AND(F22="",NOT(ISNUMBER(F22)))),ISNA(MATCH(F22,設定・マスタ!$H$5:$H$96,0))),AND(NOT(AND(G22="",NOT(ISNUMBER(G22)))),ISNA(MATCH(G22,設定・マスタ!$H$5:$H$96,0))),AND(NOT(AND(H22="",NOT(ISNUMBER(H22)))),ISNA(MATCH(H22,設定・マスタ!$H$5:$H$96,0))),AND(NOT(AND(I22="",NOT(ISNUMBER(I22)))),ISNA(MATCH(I22,設定・マスタ!$H$5:$H$96,0))),AND(NOT(AND(J22="",NOT(ISNUMBER(J22)))),ISNA(MATCH(J22,設定・マスタ!$H$5:$H$96,0))),AND(NOT(AND(K22="",NOT(ISNUMBER(K22)))),ISNA(MATCH(K22,設定・マスタ!$H$5:$H$96,0))),AND(NOT(AND(L22="",NOT(ISNUMBER(L22)))),ISNA(MATCH(L22,設定・マスタ!$H$5:$H$96,0)))),"NG：リストから選択",IF(OR(AND(NOT(AND(C22="",NOT(ISNUMBER(C22)))),COUNTIFS(C22:L22,C22)>1),AND(NOT(AND(D22="",NOT(ISNUMBER(D22)))),COUNTIFS(C22:L22,D22)>1),AND(NOT(AND(E22="",NOT(ISNUMBER(E22)))),COUNTIFS(C22:L22,E22)>1),AND(NOT(AND(F22="",NOT(ISNUMBER(F22)))),COUNTIFS(C22:L22,F22)>1),AND(NOT(AND(G22="",NOT(ISNUMBER(G22)))),COUNTIFS(C22:L22,G22)>1),AND(NOT(AND(H22="",NOT(ISNUMBER(H22)))),COUNTIFS(C22:L22,H22)>1),AND(NOT(AND(I22="",NOT(ISNUMBER(I22)))),COUNTIFS(C22:L22,I22)>1),AND(NOT(AND(J22="",NOT(ISNUMBER(J22)))),COUNTIFS(C22:L22,J22)>1),AND(NOT(AND(K22="",NOT(ISNUMBER(K22)))),COUNTIFS(C22:L22,K22)>1),AND(NOT(AND(L22="",NOT(ISNUMBER(L22)))),COUNTIFS(C22:L22,L22)>1)),"NG：同じ資格が重複",IF(COUNTIFS($B$11:$B$110,B22)>1,"要確認：同名の職員","OK")))))) | N22: =IF(LEFT(M22,2)="NG",1,0) -> 0
... A110: 100 | M110: =IF(COUNTA(B110:L110)=0,"",IF(AND(B110="",NOT(ISNUMBER(B110))),"NG：氏名を入力",IF(COUNTA(C110:L110)=0,"NG：資格を選択",IF(OR(AND(NOT(AND(C110="",NOT(ISNUMBER(C110)))),ISNA(MATCH(C110,設定・マスタ!$H$5:$H$96,0))),AND(NOT(AND(D110="",NOT(ISNUMBER(D110)))),ISNA(MATCH(D110,設定・マスタ!$H$5:$H$96,0))),AND(NOT(AND(E110="",NOT(ISNUMBER(E110)))),ISNA(MATCH(E110,設定・マスタ!$H$5:$H$96,0))),AND(NOT(AND(F110="",NOT(ISNUMBER(F110)))),ISNA(MATCH(F110,設定・マスタ!$H$5:$H$96,0))),AND(NOT(AND(G110="",NOT(ISNUMBER(G110)))),ISNA(MATCH(G110,設定・マスタ!$H$5:$H$96,0))),AND(NOT(AND(H110="",NOT(ISNUMBER(H110)))),ISNA(MATCH(H110,設定・マスタ!$H$5:$H$96,0))),AND(NOT(AND(I110="",NOT(ISNUMBER(I110)))),ISNA(MATCH(I110,設定・マスタ!$H$5:$H$96,0))),AND(NOT(AND(J110="",NOT(ISNUMBER(J110)))),ISNA(MATCH(J110,設定・マスタ!$H$5:$H$96,0))),AND(NOT(AND(K110="",NOT(ISNUMBER(K110)))),ISNA(MATCH(K110,設定・マスタ!$H$5:$H$96,0))),AND(NOT(AND(L110="",NOT(ISNUMBER(L110)))),ISNA(MATCH(L110,設定・マスタ!$H$5:$H$96,0)))),"NG：リストから選択",IF(OR(AND(NOT(AND(C110="",NOT(ISNUMBER(C110)))),COUNTIFS(C110:L110,C110)>1),AND(NOT(AND(D110="",NOT(ISNUMBER(D110)))),COUNTIFS(C110:L110,D110)>1),AND(NOT(AND(E110="",NOT(ISNUMBER(E110)))),COUNTIFS(C110:L110,E110)>1),AND(NOT(AND(F110="",NOT(ISNUMBER(F110)))),COUNTIFS(C110:L110,F110)>1),AND(NOT(AND(G110="",NOT(ISNUMBER(G110)))),COUNTIFS(C110:L110,G110)>1),AND(NOT(AND(H110="",NOT(ISNUMBER(H110)))),COUNTIFS(C110:L110,H110)>1),AND(NOT(AND(I110="",NOT(ISNUMBER(I110)))),COUNTIFS(C110:L110,I110)>1),AND(NOT(AND(J110="",NOT(ISNUMBER(J110)))),COUNTIFS(C110:L110,J110)>1),AND(NOT(AND(K110="",NOT(ISNUMBER(K110)))),COUNTIFS(C110:L110,K110)>1),AND(NOT(AND(L110="",NOT(ISNUMBER(L110)))),COUNTIFS(C110:L110,L110)>1)),"NG：同じ資格が重複",IF(COUNTIFS($B$11:$B$110,B110)>1,"要確認：同名の職員","OK")))))) | N110: =IF(LEFT(M110,2)="NG",1,0) -> 0
A113: 資格別人数（名簿から自動集計）
B115: 資格コード | D115: 資格名 | L115: 人数 | M115: 集計の状態
B116: 137 | D116: 一級建築士 | L116: =IF($B$8>0,"",COUNTIFS($C$11:$L$110,設定・マスタ!H5)) | M116: =IF($B$8>0,"要修正","OK") -> 要修正
B117: 078 | D117: 設備設計一級建築士 | L117: =IF($B$8>0,"",COUNTIFS($C$11:$L$110,設定・マスタ!H6)) | M117: =IF($B$8>0,"要修正","OK") -> 要修正
B118: 079 | D118: 構造設計一級建築士 | L118: =IF($B$8>0,"",COUNTIFS($C$11:$L$110,設定・マスタ!H7)) | M118: =IF($B$8>0,"要修正","OK") -> 要修正
B119: 238 | D119: 二級建築士 | L119: =IF($B$8>0,"",COUNTIFS($C$11:$L$110,設定・マスタ!H8)) | M119: =IF($B$8>0,"要修正","OK") -> 要修正
B120: 062 | D120: 建築設備士 | L120: =IF($B$8>0,"",COUNTIFS($C$11:$L$110,設定・マスタ!H9)) | M120: =IF($B$8>0,"要修正","OK") -> 要修正
B121: 064 | D121: 建築構造士 | L121: =IF($B$8>0,"",COUNTIFS($C$11:$L$110,設定・マスタ!H10)) | M121: =IF($B$8>0,"要修正","OK") -> 要修正
B122: 076 | D122: 建築積算士（建築コスト管理士含む） | L122: =IF($B$8>0,"",COUNTIFS($C$11:$L$110,設定・マスタ!H11)) | M122: =IF($B$8>0,"要修正","OK") -> 要修正
B123: 107 | D123: 測量士 | L123: =IF($B$8>0,"",COUNTIFS($C$11:$L$110,設定・マスタ!H12)) | M123: =IF($B$8>0,"要修正","OK") -> 要修正
B124: 208 | D124: 測量士補 | L124: =IF($B$8>0,"",COUNTIFS($C$11:$L$110,設定・マスタ!H13)) | M124: =IF($B$8>0,"要修正","OK") -> 要修正
B125: 991 | D125: 土地家屋調査士 | L125: =IF($B$8>0,"",COUNTIFS($C$11:$L$110,設定・マスタ!H14)) | M125: =IF($B$8>0,"要修正","OK") -> 要修正
B126: 701 | D126: 技術士：機械部門 | L126: =IF($B$8>0,"",COUNTIFS($C$11:$L$110,設定・マスタ!H15)) | M126: =IF($B$8>0,"要修正","OK") -> 要修正
B127: 702 | D127: 技術士：船舶・海洋部門 | L127: =IF($B$8>0,"",COUNTIFS($C$11:$L$110,設定・マスタ!H16)) | M127: =IF($B$8>0,"要修正","OK") -> 要修正
... B207: 072 | D207: 磁気探査技士 | L207: =IF($B$8>0,"",COUNTIFS($C$11:$L$110,設定・マスタ!H96)) | M207: =IF($B$8>0,"要修正","OK") -> 要修正

Sheet 様式第3号
A1: 様式第３号
I4: 登録番号： | X4: 商号：
A6: 所在地見取図兼状況報告書
A8: 所在地見取図 | F8: 【本市にある営業所（本店又は支店等）の所在地見取図を記入してください。】
A47: 営業所等の状況 | E47: １ 浦添市にある営業所（本店又は支店等）の状況
H48: □ | K48: 専用 | O48: □ | Q48: 併用等（自宅兼事務所、他事業者との共用）

Sheet 様式第4号
A1: 様式第4号
I2: 登録番号： | X2: 商号：
A4: 営業所等の写真
A6: 営業所等の外観写真 | F6: 【本市にある営業所等（本店又は支店等）の外観（看板又は表札を含むこと。）の状況が分かる鮮明なカラー写真を貼り付けてください。】※鮮明な画像であれば、カラープリンタでの印刷も可とする。モノクロは不可。
E28: 建物の状況 | O28: □ | Q28: 独立した事業所 | Z28: □ | AB28: テナントビル内 | AK28: □ | AM28: 戸建住宅、マンション内
E29: 看板等の設置 | O29: □ | Q29: 看板 | Z29: □ | AB29: 表札 | AG29: □ | AI29: その他（ | AY29: ）
A30: 営業所等の内部写真 | F30: 【本市にある営業所等の内部の状況（本店又は支店等としての機能を備えていること。）が分かる鮮明なカラー写真を貼り付けてください。】※鮮明な画像であれば、カラープリンタでの印刷も可とする。モノクロは不可
E52: 設備等 | O52: □ | Q52: 電話 | T52: □ | V52: FAX | X52: □ | Z52: パソコン | AE52: □ | AG52: プリンタ | AL52: □ | AN52: コピー機 | AS52: □ | AU52: 事務用机・椅子

Sheet 様式第7号
A1: 様式第7号
O2: 令和 | P2: 年 | Q2: 月 | R2: 日
A3: 浦 添 市 長 殿
A5: 委 任 状
B8: （委任者）
B9: 所在地（住所）
B11: 商号又は名称
B13: 代表者 役職
B16: 氏 名 | O16: 実 印
B19: 私は、下記の者を代理人と定め、次の事項に関する権限を委任します。
A21: 記
A23: １ （受任者）
B24: 所在地（住所）
B26: 商号又は名称
B28: 支店等の名称
B29: 役 職
B31: 氏 名 | O31: 受任者印
A35: ２ 委任期間
B36: 入札参加資格を認定された日から次回名簿登録日の前日まで
A39: ３ 委任事項
B40: 次の契約手続に関する事項
B41: (1)入札及び見積書の提出に関する件
B42: (2)契約締結に関する件
B43: (3)入札保証金及び契約保証金の納付、還付請求及び受領に関する件
B44: (4)契約の履行に関する件
B45: (5)契約解除に関する件
B46: (6)復代理人の選任及び解任に関する件
B47: (7)その他契約手続に関する一切の件

Sheet 様式第8号
A1: 様式第８号 | I1: 令和 | J1: 年 | K1: 月 | L1: 日
A2: 使 用 印 鑑 届
B5: 浦 添 市 長 殿
B8: 上の使用印鑑を浦添市との入札、見積り、契約締結その他の契約に関し使用します。
A14: 所在地
A16: 商号又は名称
A18: 代表者の役職
A20: 代表者の氏名
C35: (注)委任状を提出されている場合は、委任状の受任者印と同じ印鑑になります。

Sheet 様式第11号
B1: 様式第11号
B2: 実 績 調 書
B4: （申請業種）
B5: （単位：千円）
B6: 発注者 | C6: 元請 下請 の別 | D6: 件 名 | E6: 測量等対象 の規模等 | F6: 業務履行場所名 | G6: 着手年月 | K6: 注）１ 金額は税抜きで記入し、千円未満の端数は切り捨てること。
F7: 請負代金額 | G7: 完成年月 | K7: ２ 申請する業種が複数ある場合は、業種別に作成すること。
H8: 年 | J8: 月 | K8: ３ １つの件名に２つ以上の業種が含まれる場合、業種ごとに
H9: 年 | J9: 月 | K9: 件名を明記し請負金額を案分すること。
H10: 年 | J10: 月 | K10: ４ 直前２年間(R6.12.1～R8.11.30)の主な完成業務について記載すること。
H11: 年 | J11: 月 | K11: ５ 下請の場合「発注者」欄には元請業者名を、「件名」欄には
H12: 年 | J12: 月 | K12: 下請件名を記載すること。
H13: 年 | J13: 月 | K13: ６ 「測量等対象の規模等」欄には、測量の面積・精度、設計の構造・延べ
H14: 年 | J14: 月 | K14: 面積等を記載すること。
H15: 年 | J15: 月
H16: 年 | J16: 月
H17: 年 | J17: 月
H18: 年 | J18: 月
H19: 年 | J19: 月
H20: 年 | J20: 月
H21: 年 | J21: 月
B24: （申請業種）
B25: （単位：千円）
H26: 年 | J26: 月
H27: 年 | J27: 月
H28: 年 | J28: 月
H29: 年 | J29: 月
H30: 年 | J30: 月
H31: 年 | J31: 月
H32: 年 | J32: 月
H33: 年 | J33: 月
H34: 年 | J34: 月
H35: 年 | J35: 月
H36: 年 | J36: 月
H37: 年 | J37: 月
... H39: 年 | J39: 月
B43: （申請業種）
B44: （単位：千円）
B45: 発注者 | C45: 元請 下請 の別 | D45: 件 名 | E45: 測量等対象 の規模等 | F45: 業務履行場所名 | G45: 着手年月
F46: 請負代金額 | G46: 完成年月
H47: 年 | J47: 月
...

Sheet 様式第12号
A2: 様式第12号
G3: 令和 | H3: 年 | I3: 月 | J3: 日
A5: 誓 約 書
A7: 浦添市長 殿
E8: 所 在 地
E10: 商号又は名称
E13: 代表者氏名 | J13: 印
A16: 浦添市競争入札参加資格審査申請（委託）にあたり、下記の事項について誓約します。
A18: 記
A20: １ 地方自治法施行令（昭和22年政令第16号）第167条の４第1項の規定に該当しない者
A21: であること。
A23: ２ 暴力団員による不当な行為の防止等に関する法律（平成3年法律第77号）第2条第6号の暴力
A24: 団員又は同条第2号の暴力団若しくは同条第6号の暴力団員と密接な関係を有する者でないこと。
A25: また、将来にわたっても、該当しないこと。
A27: ３ 最低賃金法を遵守し、最低賃金以上の賃金を支払っており、同法の規定による罰則の適用を
A28: を受けていないこと。
A30: ４ 浦添市競争入札参加資格審査申請（委託）に定める要件は、すべて満たしていること。
A32: ５ 必要に応じて行う実態調査に応じること。
A34: ６ 入札参加資格認定後、浦添市において入札参加資格者名簿に登録された内容について情報を
... A42: の取消し、契約解除等の措置を受け、かつ、その事実を公表されても異存ありません。
B44: ※本様式は押印済みのPDFデータを入札参加審査申請時に添付すること。この原本に関しては適切に整理保管し、浦添市の求めに応じて提出できるようにすること。

Sheet 様式第13号
A1: 様式第13号
C3: □ | D3: 労働保険
C4: □ | D4: 社会保険 | G4: 未加入理由書 | L4: ← 該当する保険に、チェックか■をつける。
C5: □ | D5: 退職金共済制度
B9: 【 理 由 】 | L9: 【記入例】
M10: 労働保険の場合
M11: ・１週間の所定労働時間が20時間未満であるため
M12: ・３１日以上継続して雇用する見込みがないため
M13: ・大学や専修学校の学生・生徒等であるため | R13: など
M15: 社会保険の場合
M16: ・５人未満(家族従事者は含まない)の個人事業所であるため
M17: ・日々雇い入れられる者であるため
M18: ・２か月以内の期間を定めて使用される者であるため
R19: など
G24: 令和 | H24: 年 | I24: 月 | J24: 日
D27: 所 在 地
D29: 商号又は名称
D31: 代表者氏名
H32: （押印は必要ありません）

Sheet 様式第15号
A1: 様式第15号
A2: 資本関係・人的関係等に関する調書
U5: 令和 | X5: 年 | AA5: 月 | AD5: 日
B7: 浦添市長 殿
L8: 登録番号
L10: 所在地
L13: 商号又は名称
L15: 代表者の役職
L17: 代表者の氏名
A20: 資本関係・人的関係について、下記のとおり届け出ます。
A22: 浦添市競争入札参加資格（測量および建設コンサルタント等）への登録を予定している会社のうち、
A23: 以下の１．２について記載してください。１．２ともに該当「無」の場合は提出不要です。
A24: 1 | B24: 資本関係のある会社 | J24: 【 | K24: 有・無 | O24: 】
B26: 法人番号 | F26: 商号又は名称 | P26: 所在地 | Z26: 具体的関係
A33: 2 | B33: 人的関係のある会社 | J33: 【 | K33: 有・無 | O33: 】
B35: 当社の役員等 | K35: 兼任先及び兼任先での役職
B36: 役職 | F36: 氏名 | K36: 法人番号 | O36: 商号又は名称 | V36: 所在地 | AC36: 役職
A42: (注) | C42: (1) | E42: 1、2は「有無」のいずれかを選択し、「無」の場合には欄内の記載は不要です。
C44: (2) | E44: 1の具体的関係は、「親会社」「子会社」「親会社を同じくする子会社同士」の
E45: いずれかを選択してください。
C47: (3) | E47: 2の役職(当社)及び兼任先の役職には、「代表取締役」「取締役」「代表執行役」「管財人」「理事」のいずれかを選択してください。
C50: (4) | E50: 欄が不足する場合には、適宜追加するか、別紙を添付してください。

Sheet 様式第15号記入例 
A1: 様式第15号
A2: 資本関係・人的関係等に関する調書
U5: 令和 | X5: 8年 | AA5: 12月 | AD5: 1日
B7: 浦添市長 殿
O10: 所在地
O13: 商号又は名称
O15: 代表者の役職
O17: 代表者の氏名
A19: 資本関係・人的関係について、下記のとおり届け出ます。
A21: 浦添市競争入札参加資格「測量および建設コンサルタント等」への登録を予定している会社のうち、
A22: 以下の１．２について記載してください。１．２ともに該当「無」の場合は提出不要。
A24: 1 | B24: 資本関係のある会社 | J24: 【 | K24: 有 | O24: 】
B25: 「親会社」、「子会社」、「親会社を同じくする子会社同士」をリストから選択してください。
B27: 法人番号 | F27: 商号又は名称 | P27: 所在地 | Z27: 具体的関係
B28: 1234567891234 | F28: (株)△△コンサルタント | P28: 浦添市仲間1丁目1-2 | Z28: 親会社
B29: 1234567892345 | F29: (株)□□事務所 | P29: 浦添市安波茶1-1-3 | Z29: 子会社
A34: 2 | B34: 人的関係のある会社 | J34: 【 | K34: 有 | O34: 】
B36: 当社の役員等 | K36: 兼任先及び兼任先での役職
B37: 役職 | F37: 氏名 | K37: 法人番号 | O37: 商号又は名称 | V37: 所在地 | AC37: 役職
B38: 取締役 | F38: 仲間 花子 | K38: 234567890123 | O38: ××設計(株) | V38: 沖縄県浦添市仲間１１ | AC38: 代表取締役
A43: (注) | C43: (1) | E43: 1、2は「有無」のいずれかを選択し、「無」の場合には欄内の記載は不要です。
C45: (2) | E45: 1の具体的関係は、「親会社」「子会社」「親会社を同じくする子会社同士」の
E46: いずれかを選択してください。
C48: (3) | E48: 2の役職(当社)及び兼任先の役職には、「代表取締役」「取締役」「代表執行役」「管財人」「理事」のいずれかを選択してください。
E51: 欄が不足する場合には、適宜追加するか、別紙を添付してください。

Sheet 項目一覧
A2: 入力項目一覧・再利用する値
A4: 業種別の実績・登録情報は「業種CSV」、職員別情報は「有資格職員数名簿」を使用。
A6: 項目ID | B6: 区分 | C6: 項目名 | D6: 入力値 | E6: 再利用値 | F6: 参照元 | G6: データ型
A7: entity_type | B7: 基本情報 | C7: 事業者区分 | D7: =IF(AND(AND(基本情報!C9="",NOT(ISNUMBER(基本情報!C9))),NOT(ISNUMBER(基本情報!C9))),"",基本情報!C9) | E7: =IF(AND(D7="",NOT(ISNUMBER(D7))),"",D7) | F7: 基本情報!C9 | G7: 文字列
A8: corporate_number | B8: 基本情報 | C8: 法人番号 | D8: =IF(AND(AND(基本情報!C10="",NOT(ISNUMBER(基本情報!C10))),NOT(ISNUMBER(基本情報!C10))),"",基本情報!C10) | E8: =IF(基本情報!C9="法人",IF(AND(D8="",NOT(ISNUMBER(D8))),"",D8),"") | F8: 基本情報!C10 | G8: 文字列
A9: location_class | B9: 基本情報 | C9: 所在地区分 | D9: =IF(AND(AND(基本情報!C11="",NOT(ISNUMBER(基本情報!C11))),NOT(ISNUMBER(基本情報!C11))),"",基本情報!C11) | E9: =IF(AND(D9="",NOT(ISNUMBER(D9))),"",D9) | F9: 基本情報!C11 | G9: 文字列
A10: previous_registration | B10: 基本情報 | C10: 過去に登録したことはあるか | D10: =IF(AND(AND(基本情報!C12="",NOT(ISNUMBER(基本情報!C12))),NOT(ISNUMBER(基本情報!C12))),"",基本情報!C12) | E10: =IF(AND(D10="",NOT(ISNUMBER(D10))),"",D10) | F10: 基本情報!C12 | G10: 文字列
A11: registration_number | B11: 基本情報 | C11: 浦添市の登録番号 | D11: =IF(AND(AND(基本情報!C13="",NOT(ISNUMBER(基本情報!C13))),NOT(ISNUMBER(基本情報!C13))),"",基本情報!C13) | E11: =IF(基本情報!C12<>"なし",IF(AND(D11="",NOT(ISNUMBER(D11))),"",D11),"") | F11: 基本情報!C13 | G11: 文字列
A12: head_postal_code | B12: 基本情報 | C12: 郵便番号 | D12: =IF(AND(AND(基本情報!C16="",NOT(ISNUMBER(基本情報!C16))),NOT(ISNUMBER(基本情報!C16))),"",基本情報!C16) | E12: =IF(AND(D12="",NOT(ISNUMBER(D12))),"",D12) | F12: 基本情報!C16 | G12: 文字列
A13: head_address | B13: 基本情報 | C13: 住所 | D13: =IF(AND(AND(基本情報!C17="",NOT(ISNUMBER(基本情報!C17))),NOT(ISNUMBER(基本情報!C17))),"",基本情報!C17) | E13: =IF(AND(D13="",NOT(ISNUMBER(D13))),"",D13) | F13: 基本情報!C17 | G13: 文字列
A14: head_name_kana | B14: 基本情報 | C14: 商号又は名称フリガナ | D14: =IF(AND(AND(基本情報!C18="",NOT(ISNUMBER(基本情報!C18))),NOT(ISNUMBER(基本情報!C18))),"",基本情報!C18) | E14: =IF(AND(D14="",NOT(ISNUMBER(D14))),"",D14) | F14: 基本情報!C18 | G14: 文字列
A15: head_name | B15: 基本情報 | C15: 商号又は名称 | D15: =IF(AND(AND(基本情報!C19="",NOT(ISNUMBER(基本情報!C19))),NOT(ISNUMBER(基本情報!C19))),"",基本情報!C19) | E15: =IF(AND(D15="",NOT(ISNUMBER(D15))),"",D15) | F15: 基本情報!C19 | G15: 文字列
A16: head_representative_title | B16: 基本情報 | C16: 代表者役職 | D16: =IF(AND(AND(基本情報!C20="",NOT(ISNUMBER(基本情報!C20))),NOT(ISNUMBER(基本情報!C20))),"",基本情報!C20) | E16: =IF(AND(D16="",NOT(ISNUMBER(D16))),"",D16) | F16: 基本情報!C20 | G16: 文字列
A17: head_representative_kana | B17: 基本情報 | C17: 代表者氏名フリガナ | D17: =IF(AND(AND(基本情報!C21="",NOT(ISNUMBER(基本情報!C21))),NOT(ISNUMBER(基本情報!C21))),"",基本情報!C21) | E17: =IF(AND(D17="",NOT(ISNUMBER(D17))),"",D17) | F17: 基本情報!C21 | G17: 文字列
A18: head_representative_name | B18: 基本情報 | C18: 代表者氏名 | D18: =IF(AND(AND(基本情報!C22="",NOT(ISNUMBER(基本情報!C22))),NOT(ISNUMBER(基本情報!C22))),"",基本情報!C22) | E18: =IF(AND(D18="",NOT(ISNUMBER(D18))),"",D18) | F18: 基本情報!C22 | G18: 文字列
A19: head_phone | B19: 基本情報 | C19: 電話番号 | D19: =IF(AND(AND(基本情報!C23="",NOT(ISNUMBER(基本情報!C23))),NOT(ISNUMBER(基本情報!C23))),"",基本情報!C23) | E19: =IF(AND(D19="",NOT(ISNUMBER(D19))),"",D19) | F19: 基本情報!C23 | G19: 文字列
A20: head_fax | B20: 基本情報 | C20: FAX番号 | D20: =IF(AND(AND(基本情報!C24="",NOT(ISNUMBER(基本情報!C24))),NOT(ISNUMBER(基本情報!C24))),"",基本情報!C24) | E20: =IF(AND(D20="",NOT(ISNUMBER(D20))),"",D20) | F20: 基本情報!C24 | G20: 文字列
A21: head_email | B21: 基本情報 | C21: 本社用メールアドレス | D21: =IF(AND(AND(基本情報!C25="",NOT(ISNUMBER(基本情報!C25))),NOT(ISNUMBER(基本情報!C25))),"",基本情報!C25) | E21: =IF(AND(D21="",NOT(ISNUMBER(D21))),"",D21) | F21: 基本情報!C25 | G21: 文字列
A22: delegation | B22: 基本情報 | C22: 入札・契約権限の委任 | D22: =IF(AND(AND(基本情報!C26="",NOT(ISNUMBER(基本情報!C26))),NOT(ISNUMBER(基本情報!C26))),"",基本情報!C26) | E22: =IF(AND(D22="",NOT(ISNUMBER(D22))),"",D22) | F22: 基本情報!C26 | G22: 文字列
A23: branch_address | B23: 基本情報 | C23: 住所 | D23: =IF(AND(AND(基本情報!C29="",NOT(ISNUMBER(基本情報!C29))),NOT(ISNUMBER(基本情報!C29))),"",基本情報!C29) | E23: =IF(基本情報!C26="する",IF(AND(D23="",NOT(ISNUMBER(D23))),"",D23),"") | F23: 基本情報!C29 | G23: 文字列
A24: branch_name | B24: 基本情報 | C24: 商号又は名称 | D24: =IF(AND(AND(基本情報!C30="",NOT(ISNUMBER(基本情報!C30))),NOT(ISNUMBER(基本情報!C30))),"",基本情報!C30) | E24: =IF(基本情報!C26="する",IF(AND(D24="",NOT(ISNUMBER(D24))),"",D24),"") | F24: 基本情報!C30 | G24: 文字列
A25: branch_representative_title | B25: 基本情報 | C25: 代表者（受任者）役職 | D25: =IF(AND(AND(基本情報!C32="",NOT(ISNUMBER(基本情報!C32))),NOT(ISNUMBER(基本情報!C32))),"",基本情報!C32) | E25: =IF(基本情報!C26="する",IF(AND(D25="",NOT(ISNUMBER(D25))),"",D25),"") | F25: 基本情報!C32 | G25: 文字列
A26: branch_office_name | B26: 基本情報 | C26: 支店等の名称 | D26: =IF(AND(AND(基本情報!C31="",NOT(ISNUMBER(基本情報!C31))),NOT(ISNUMBER(基本情報!C31))),"",基本情報!C31) | E26: =IF(基本情報!C26="する",IF(AND(D26="",NOT(ISNUMBER(D26))),"",D26),"") | F26: 基本情報!C31 | G26: 文字列
A27: branch_representative_name | B27: 基本情報 | C27: 代表者（受任者）氏名 | D27: =IF(AND(AND(基本情報!C33="",NOT(ISNUMBER(基本情報!C33))),NOT(ISNUMBER(基本情報!C33))),"",基本情報!C33) | E27: =IF(基本情報!C26="する",IF(AND(D27="",NOT(ISNUMBER(D27))),"",D27),"") | F27: 基本情報!C33 | G27: 文字列
A28: branch_phone | B28: 基本情報 | C28: 電話番号 | D28: =IF(AND(AND(基本情報!C34="",NOT(ISNUMBER(基本情報!C34))),NOT(ISNUMBER(基本情報!C34))),"",基本情報!C34) | E28: =IF(基本情報!C26="する",IF(AND(D28="",NOT(ISNUMBER(D28))),"",D28),"") | F28: 基本情報!C34 | G28: 文字列
A29: branch_fax | B29: 基本情報 | C29: FAX番号 | D29: =IF(AND(AND(基本情報!C35="",NOT(ISNUMBER(基本情報!C35))),NOT(ISNUMBER(基本情報!C35))),"",基本情報!C35) | E29: =IF(基本情報!C26="する",IF(AND(D29="",NOT(ISNUMBER(D29))),"",D29),"") | F29: 基本情報!C35 | G29: 文字列
A30: branch_email | B30: 基本情報 | C30: 委任先営業所用メールアドレス | D30: =IF(AND(AND(基本情報!C36="",NOT(ISNUMBER(基本情報!C36))),NOT(ISNUMBER(基本情報!C36))),"",基本情報!C36) | E30: =IF(基本情報!C26="する",IF(AND(D30="",NOT(ISNUMBER(D30))),"",D30),"") | F30: 基本情報!C36 | G30: 文字列
A31: net_assets_thousand_yen | B31: 経営・許可 | C31: 純資産の部合計（千円） | D31: =IF(AND(AND(経営・許可!D9="",NOT(ISNUMBER(経営・許可!D9))),NOT(ISNUMBER(経営・許可!D9))),"",経営・許可!D9) | E31: =IF(AND(D31="",NOT(ISNUMBER(D31))),"",D31) | F31: 経営・許可!D9 | G31: 数値
A32: business_years | B32: 経営・許可 | C32: 営業年数（年） | D32: =IF(AND(AND(経営・許可!D10="",NOT(ISNUMBER(経営・許可!D10))),NOT(ISNUMBER(経営・許可!D10))),"",経営・許可!D10) | E32: =IF(AND(D32="",NOT(ISNUMBER(D32))),"",D32) | F32: 経営・許可!D10 | G32: 数値
A33: iso9001 | B33: 経営・許可 | C33: ISO9001取得 | D33: =IF(AND(AND(経営・許可!D13="",NOT(ISNUMBER(経営・許可!D13))),NOT(ISNUMBER(経営・許可!D13))),"",経営・許可!D13) | E33: =IF(AND(D33="",NOT(ISNUMBER(D33))),"",D33) | F33: 経営・許可!D13 | G33: 文字列
